BEGIN:VCALENDAR
VERSION:2.0
PRODID:-//ChamberMaster//Event Calendar 2.0//EN
METHOD:PUBLISH
X-PUBLISHED-TTL:P3D
REFRESH-INTERVAL:P3D
CALSCALE:GREGORIAN
BEGIN:VEVENT
DTSTART:20230216T180000Z
DTEND:20230216T190000Z
X-MICROSOFT-CDO-ALLDAYEVENT:FALSE
SUMMARY:WMN - Women Mentoring & Networking
DESCRIPTION:Are you content or complacent? Ladies   join us for the next WMN where Ericka Heiser of Heiser Valuation Services\, LLC will discuss how to become aware if complacency is seeping into your relationships\, professionalism\, health & personal growth and provide tips on how to fight it.
X-ALT-DESC;FMTTYPE=text/html:<em style="color: rgb(51\, 51\, 51)\; font-family: sans-serif\, Arial\, Verdana\, &quot\;Trebuchet MS&quot\;\; font-size: 13px\;"><span style="font-size: small\;"><span style="font-family: calibri\;"><span style="font-size: 11pt\;">Are you content or complacent? Ladies &ndash\; join us for the next WMN where Ericka Heiser of Heiser Valuation Services\, LLC will discuss how to become aware if complacency is seeping into your relationships\, professionalism\, health &amp\; personal growth and provide tips on how to fight it.</span></span></span></em>
LOCATION:In-person at the Siouxland Chamber or via Zoom link below. RSVP your attendance to hreinking@siouxlandchamber.com Zoom link will be sent upon request
UID:e.769.5966
SEQUENCE:3
DTSTAMP:20260419T151241Z
URL:https://directory.siouxlandchamber.com/events/details/wmn-women-mentoring-networking-5966
END:VEVENT

END:VCALENDAR
