BEGIN:VCALENDAR
VERSION:2.0
PRODID:-//ChamberMaster//Event Calendar 2.0//EN
METHOD:PUBLISH
X-PUBLISHED-TTL:P3D
REFRESH-INTERVAL:P3D
CALSCALE:GREGORIAN
BEGIN:VEVENT
DTSTART:20221103T213000Z
DTEND:20221103T233000Z
X-MICROSOFT-CDO-ALLDAYEVENT:FALSE
SUMMARY:WMN Networking Event
DESCRIPTION:We all like to meet new people but no one likes to network. Ladies\, the Siouxland Chamber is here to help!  Mark your calendar for the next WMN meeting (which will be held at the Small Business Expo). Check in at the Expo\, register for door prizes\, and receive your networking Bingo card. Complete a Bingo and be registered to win $100 in Chamber bucks.
X-ALT-DESC;FMTTYPE=text/html:We all like to meet new people but no one likes to network. Ladies\, the Siouxland Chamber is here to help!&nbsp\; Mark your calendar for the next WMN meeting (which will be held at the Small Business Expo). Check in at the Expo\, register for door prizes\, and receive your networking Bingo card. Complete a Bingo and be registered to win $100 in Chamber bucks.
LOCATION:Tyson Events Center / Fleet Farm Arena
UID:e.769.5882
SEQUENCE:3
DTSTAMP:20260419T193658Z
URL:https://directory.siouxlandchamber.com/events/details/wmn-networking-event-5882
END:VEVENT

END:VCALENDAR
