BEGIN:VCALENDAR
VERSION:2.0
PRODID:-//ChamberMaster//Event Calendar 2.0//EN
METHOD:PUBLISH
X-PUBLISHED-TTL:P3D
REFRESH-INTERVAL:P3D
CALSCALE:GREGORIAN
BEGIN:VEVENT
DTSTART:20230201T180000Z
DTEND:20230201T190000Z
X-MICROSOFT-CDO-ALLDAYEVENT:FALSE
SUMMARY:WMN
DESCRIPTION:Do you ever feel called to fight injustice in the world or improve the lives of others\, but aren't sure how you can help? Ladies\, join us for the next WMN where Valerie Petersen\, Associate Executive Director of the Food Bank of Siouxland\, will teach you how to utilize your personal brand to help non-profits.
X-ALT-DESC;FMTTYPE=text/html:<em><span style="color:#1F497D\;">Do you ever feel called to fight injustice in the world or improve the lives of others\, but aren&rsquo\;t sure how you can help? Ladies\, join us for the next WMN where Valerie Petersen\, Associate Executive Director of the Food Bank of Siouxland\, will teach you how to utilize your personal brand to help non-profits.&nbsp\;</span></em><br />\n&nbsp\;<br />\n&nbsp\;
LOCATION:In-person at the Siouxland Chamber or via Zoom RSVP your attendance to hreinking@siouxlandchamber.com Zoom link will be sent upon request.
UID:e.769.5906
SEQUENCE:3
DTSTAMP:20260419T151036Z
URL:https://directory.siouxlandchamber.com/events/details/wmn-5906
END:VEVENT

END:VCALENDAR
