BEGIN:VCALENDAR
VERSION:2.0
PRODID:-//ChamberMaster//Event Calendar 2.0//EN
METHOD:PUBLISH
X-PUBLISHED-TTL:P3D
REFRESH-INTERVAL:P3D
CALSCALE:GREGORIAN
BEGIN:VEVENT
DTSTART:20230119T180000Z
DTEND:20230119T190000Z
X-MICROSOFT-CDO-ALLDAYEVENT:FALSE
SUMMARY:WMN
DESCRIPTION:Are you content or complacent? Ladies   join us for the next WMN where Ericka Heiser of Heiser Valuation Services\, LLC will discuss how to become aware if complacency is seeping into your relationships\, professionalism\, health & personal growth and provide tips on how to fight it.
X-ALT-DESC;FMTTYPE=text/html:<em><span style="font-size:small\;"><span style="font-family:calibri\;"><span style="font-style:italic\;"><span style="font-size:11.0pt\;">Are you content or complacent? Ladies &ndash\; join us for the next WMN where Ericka Heiser of Heiser Valuation Services\, LLC will discuss how to become aware if complacency is seeping into your relationships\, professionalism\, health &amp\; personal growth and provide tips on how to fight it.</span></span></span></span></em>
LOCATION:101 Pierce Street or via Zoom *RSVP your attendance to hreinking@siouxlandchamber.com - Zoom link sent upon request
UID:e.769.5905
SEQUENCE:3
DTSTAMP:20260419T164106Z
URL:https://directory.siouxlandchamber.com/events/details/wmn-5905
END:VEVENT

END:VCALENDAR
