BEGIN:VCALENDAR
VERSION:2.0
PRODID:-//ChamberMaster//Event Calendar 2.0//EN
METHOD:PUBLISH
X-PUBLISHED-TTL:P3D
REFRESH-INTERVAL:P3D
CALSCALE:GREGORIAN
BEGIN:VEVENT
DTSTART:20220504T170000Z
DTEND:20220504T180000Z
X-MICROSOFT-CDO-ALLDAYEVENT:FALSE
SUMMARY:WMN 2022
DESCRIPTION:Building leadership skills. Working to advance your career. Mentoring others to do to the same. What does it take to build trust and confidence and how do you do it? Ladies\, join us for the next WMN and hear tips  from Jess Jasso\, Northwestern Mutual.
X-ALT-DESC;FMTTYPE=text/html:<em>Building leadership skills. Working to advance your career. Mentoring others to do to the same. What does it take to build trust and confidence and how do you do it? Ladies\, join us for the next WMN and hear tips&nbsp\; from Jess Jasso\, Northwestern Mutual.</em><br />\n&nbsp\;
LOCATION:Siouxland Chamber of Commerce 101 Pierce Street or via Zoom *RSVP your attendance to hreinking@siouxlandchamber.com Zoom link will be sent upon request
UID:e.769.5689
SEQUENCE:3
DTSTAMP:20260420T051834Z
URL:https://directory.siouxlandchamber.com/events/details/wmn-2022-5689
END:VEVENT

END:VCALENDAR
