BEGIN:VCALENDAR
VERSION:2.0
PRODID:-//ChamberMaster//Event Calendar 2.0//EN
METHOD:PUBLISH
X-PUBLISHED-TTL:P3D
REFRESH-INTERVAL:P3D
CALSCALE:GREGORIAN
BEGIN:VEVENT
DTSTART:20200730T140000Z
DTEND:20200730T143000Z
X-MICROSOFT-CDO-ALLDAYEVENT:FALSE
SUMMARY:VIRTUAL Ribbon Cutting - J&M Real Estate Group
DESCRIPTION:Join us on our Facebook page for a virtual ribbon cutting celebrating the 5 year anniversary of J&M Real Estate Group!
X-ALT-DESC;FMTTYPE=text/html:Join us on our Facebook page for a virtual ribbon cutting celebrating the 5 year anniversary of J&amp\;M Real Estate Group!&nbsp\;
LOCATION:https://www.facebook.com/SiouxlandChamberofCommerce
UID:e.769.5386
SEQUENCE:3
DTSTAMP:20260421T140029Z
URL:https://directory.siouxlandchamber.com/events/details/virtual-ribbon-cutting-j-m-real-estate-group-5386
END:VEVENT

END:VCALENDAR
