BEGIN:VCALENDAR
VERSION:2.0
PRODID:-//ChamberMaster//Event Calendar 2.0//EN
METHOD:PUBLISH
X-PUBLISHED-TTL:P3D
REFRESH-INTERVAL:P3D
CALSCALE:GREGORIAN
BEGIN:VEVENT
DTSTART:20151001T210000Z
DTEND:20151001T230000Z
X-MICROSOFT-CDO-ALLDAYEVENT:FALSE
SUMMARY:Trees for Siouxland / Plant Some Shade - Tree Distribution
DESCRIPTION:Trees for Siouxland / Plant Some Shade\, in cooperation with MidAmerican Energy and Iowa Department of Natural Resources sponsors this event.\n\nMidAmerican Energy Company customers in Iowa are eligible to purchase trees for $30 each\, with the remaining cost funded through a grant from MidAmerican Energy.  Tree purchase is limited to two trees per household.  Advanced purchase is required.
X-ALT-DESC;FMTTYPE=text/html:Trees for Siouxland / Plant Some Shade\, in cooperation with MidAmerican Energy and Iowa Department of Natural Resources sponsors this event.<br />\nMidAmerican Energy Company customers in Iowa are eligible to purchase trees for $30&nbsp\;each\, with the remaining cost funded through a grant from MidAmerican Energy. &nbsp\;Tree purchase is limited to two trees per household. &nbsp\;Advanced purchase is required.
LOCATION:Trees must be picked up by Thursday October 1\, 2015 between 4 and 6 pm at the Sioux City Explorers Baseball Park parking lot\, 3400 Line Drive\, Sioux City\, Iowa. Any trees not picked up by 6p.m. will be considered a donation to Trees for Siouxland. Trees are non-refundable. Exchanges will not be accepted\, and plant material is under no warranty and/or guarantee.
UID:e.769.2130
SEQUENCE:3
DTSTAMP:20260421T130602Z
URL:https://directory.siouxlandchamber.com/events/details/trees-for-siouxland-plant-some-shade-tree-distribution-10-01-2015-2130
END:VEVENT

END:VCALENDAR
