BEGIN:VCALENDAR
VERSION:2.0
PRODID:-//ChamberMaster//Event Calendar 2.0//EN
METHOD:PUBLISH
X-PUBLISHED-TTL:P3D
REFRESH-INTERVAL:P3D
CALSCALE:GREGORIAN
BEGIN:VEVENT
DTSTART:20150901T150000Z
DTEND:20150901T153000Z
X-MICROSOFT-CDO-ALLDAYEVENT:FALSE
SUMMARY:Trees for Siouxland / Plant Some Shade Press Conference @ Rose Hill Park
DESCRIPTION:
X-ALT-DESC;FMTTYPE=text/html:
LOCATION:
UID:e.769.2153
SEQUENCE:3
DTSTAMP:20260421T131735Z
URL:https://directory.siouxlandchamber.com/events/details/trees-for-siouxland-plant-some-shade-press-conference-rose-hill-park-09-01-2015-2153
END:VEVENT

END:VCALENDAR
