BEGIN:VCALENDAR
VERSION:2.0
PRODID:-//ChamberMaster//Event Calendar 2.0//EN
METHOD:PUBLISH
X-PUBLISHED-TTL:P3D
REFRESH-INTERVAL:P3D
CALSCALE:GREGORIAN
BEGIN:VEVENT
DTSTART:20230209T180000Z
DTEND:20230209T190000Z
X-MICROSOFT-CDO-ALLDAYEVENT:FALSE
SUMMARY:Transportation Meeting
DESCRIPTION:Transportation Meeting\n\nThursday\, February 9\, 2023\n\n12:00 PM to 1:00 PM\n\nSioux Gateway Airport\n\n2nd Floor Conference Room\n\n(In-Person and Zoom Available - Parking will be available\n\n in the short term parking lot. Please bring your ticket in to the meeting to be validated.)\n\n \n\nAGENDA\n\n\n\nI. Reports/Updates\n\nIowa DOT\n\nSIMPCO\n\nSioux Gateway Airport\n\nCity of Sioux City\, South Sioux City\, Sergeant Bluff\n\nWoodbury County\n\nBarge/Missouri River\n\nSiouxland Trails\n\n\n\nII. Airline Industry Update\n\nGary Foss\, ArkStar\n\n\n\nIII. SkyWest Airlines Update\n\nDaniel Belmont\, SkyWest Airlines\n\n\n\nIV. Flight School Update\n\nDave Poole\, Oracle Aviation\, Brian Miller\, Morningside University &\n\nDr. Terry Murrell\, Western IA Tech Community College
X-ALT-DESC;FMTTYPE=text/html:<div style="text-align: center\;"><strong background-color:="" font-size:="" style="color: rgb(51\, 51\, 51)\; font-family: sans-serif\, Arial\, Verdana\, " text-align:="" trebuchet=""><span style="color: black\;"><span style="font-size: 20pt\;">Transportation Meeting</span></span></strong><br background-color:="" font-size:="" style="color: rgb(51\, 51\, 51)\; font-family: sans-serif\, Arial\, Verdana\, " text-align:="" trebuchet="" />\n<span background-color:="" font-size:="" style="font-family: sans-serif\, Arial\, Verdana\, " text-align:="" trebuchet=""><span style="font-size: 14pt\;">Thursday\, February 9\, 2023<br />\n12:00 PM to 1:00 PM<br />\nSioux Gateway Airport<br />\n2nd Floor Conference Room</span></span><br background-color:="" font-size:="" style="color: rgb(51\, 51\, 51)\; font-family: sans-serif\, Arial\, Verdana\, " text-align:="" trebuchet="" />\n<span background-color:="" font-size:="" style="font-family: sans-serif\, Arial\, Verdana\, " text-align:="" trebuchet="">(In-Person and Zoom Available - Parking will be available</span></div>\n\n<div style="text-align: center\;"><span background-color:="" font-size:="" style="font-family: sans-serif\, Arial\, Verdana\, " text-align:="" trebuchet="">&nbsp\;in the short term parking lot. Please bring your ticket in to the meeting to be validated.)</span><br />\n&nbsp\;</div>\n\n<div style="text-align: center\;"><u><strong background-color:="" font-size:="" style="color: rgb(51\, 51\, 51)\; font-family: sans-serif\, Arial\, Verdana\, " text-align:="" trebuchet=""><span style="color: black\;">AGENDA</span></strong></u><br background-color:="" font-size:="" style="color: rgb(51\, 51\, 51)\; font-family: sans-serif\, Arial\, Verdana\, " text-align:="" trebuchet="" />\n<br background-color:="" font-size:="" style="color: rgb(51\, 51\, 51)\; font-family: sans-serif\, Arial\, Verdana\, " text-align:="" trebuchet="" />\n<strong><span style="color:#222222\;">I. Reports/Updates</span></strong><br />\n<span style="color:black\;">Iowa DOT<br />\nSIMPCO<br />\nSioux Gateway Airport<br />\nCity of Sioux City\, South Sioux City\, Sergeant Bluff<br />\nWoodbury County<br />\nBarge/Missouri River<br />\nSiouxland Trails</span><br />\n<br />\n<strong><span style="color:black\;">II. Airline Industry Update</span></strong><br />\n<span style="color:black\;">Gary Foss\, ArkStar</span><br />\n<br />\n<strong><span style="color:black\;">III. SkyWest Airlines Update</span></strong><br />\n<span style="color:black\;">Daniel Belmont\, SkyWest Airlines</span><br />\n<br />\n<strong><span style="color:black\;">IV. Flight School Update</span></strong><br />\n<span style="color:black\;">Dave Poole\, Oracle Aviation\, Brian Miller\, Morningside University &amp\;</span></div>\n\n<div style="text-align: center\;"><span style="color:black\;">Dr. Terry Murrell\, Western IA Tech Community College</span><br />\n<br background-color:="" font-size:="" style="color: rgb(51\, 51\, 51)\; font-family: sans-serif\, Arial\, Verdana\, " text-align:="" trebuchet="" />\n&nbsp\;</div>\n
LOCATION:Sioux Gateway Airport / Brigadier General Bud Day Field 2nd Floor Conference Room
UID:e.769.5968
SEQUENCE:3
DTSTAMP:20260419T151146Z
URL:https://directory.siouxlandchamber.com/events/details/transportation-meeting-5968
END:VEVENT

END:VCALENDAR
