BEGIN:VCALENDAR
VERSION:2.0
PRODID:-//ChamberMaster//Event Calendar 2.0//EN
METHOD:PUBLISH
X-PUBLISHED-TTL:P3D
REFRESH-INTERVAL:P3D
CALSCALE:GREGORIAN
BEGIN:VEVENT
DTSTART:20190516T170000Z
DTEND:20190516T180000Z
X-MICROSOFT-CDO-ALLDAYEVENT:FALSE
SUMMARY:Transportation Committee Meeting
DESCRIPTION:Transportation Committee Meeting\n\nThursday\, May 16\, 2019\n\n12:00 Noon\n\nLong Lines Family Rec Center\n\n3rd Floor Conference Room\n\n\n\n\n\nAGENDA\n\n\n\nI. Gordon Drive Viaduct\n\nDakin Schultz\, Iowa Department of Transportation\n\n\n\nII. Reports/Updates\n\nIowa DOT\n\nCity of Sioux City\, South Sioux City\, Sergeant Bluff\n\nWoodbury County\n\nBarge/Missouri River\n\nSiouxland Trails\n\n\n\nPlease RSVP and include whether or not you would like lunch ordered from Sneaky's at a cost of $10.00 to Teresa at trosenboom@siouxlandchamber.com.
X-ALT-DESC;FMTTYPE=text/html:<div font-size:="" style="font-family: sans-serif\, Arial\, Verdana\, " text-align:="" trebuchet=""><br />\n<span style="color: black\;"><span style="font-size: 14pt\;">Transportation Committee Meeting</span></span><br />\n<span style="font-size: 14pt\;">Thursday\, May 16\, 2019<br />\n<span style="color: black\;">12:00 Noon</span><br />\n<font color="#c00000"><b>Long Lines Family Rec Center</b></font></span><br />\n3rd Floor Conference Room</div>\n\n<div font-size:="" style="color: rgb(51\, 51\, 51)\; font-family: sans-serif\, Arial\, Verdana\, " text-align:="" trebuchet=""><br />\n<br />\n<strong><span style="color: black\;">AGENDA</span></strong><br />\n<br />\n<span style="color: black\;"><strong>I. Gordon Drive Viaduct</strong></span><br />\nDakin Schultz\, Iowa Department of Transportation<br />\n<br />\n<strong><span style="color: rgb(34\, 34\, 34)\;">II. Reports/Updates</span></strong><br />\nIowa DOT<br />\nCity of Sioux City\, South Sioux City\, Sergeant Bluff<br />\nWoodbury County<br />\nBarge/Missouri River<br />\nSiouxland Trails<br />\n<br />\n<strong><span style="color: black\;">Please RSVP and&nbsp\;</span></strong><strong>include&nbsp\;<span style="color: black\;">whether or not you would like lunch ordered from Sneaky&#39\;s at a cost of $10.00 to Teresa at&nbsp\;</span></strong><a href="mailto:trosenboom@siouxlandchamber.com?subject=Transportation%20Meeting" style="color: rgb(7\, 130\, 193)\;"><strong><span style="color: blue\;">trosenboom@siouxlandchamber.com</span></strong></a><strong>.</strong></div>\n
LOCATION:Long Lines Family Rec Center 3rd Floor Conference Room
UID:e.769.5115
SEQUENCE:3
DTSTAMP:20260421T091501Z
URL:https://directory.siouxlandchamber.com/events/details/transportation-committee-meeting-5115
END:VEVENT

END:VCALENDAR
