BEGIN:VCALENDAR
VERSION:2.0
PRODID:-//ChamberMaster//Event Calendar 2.0//EN
METHOD:PUBLISH
X-PUBLISHED-TTL:P3D
REFRESH-INTERVAL:P3D
CALSCALE:GREGORIAN
BEGIN:VEVENT
DTSTART:20180517T170000Z
DTEND:20180517T180000Z
X-MICROSOFT-CDO-ALLDAYEVENT:FALSE
SUMMARY:Transportation Committee Meeting
DESCRIPTION:Agenda\n\nI. Sioux Gateway Airport Update\n\nDarren Christopher\, Aviation Engineer\, RS&H\n\nMike Collett\, Assistant City Manager & Airport Director\, Sioux Gateway Airport\n\nDave Zimmerman\, General Manager\, Hawthorne Global Aviation\n\n\n\nII. Reports/Updates\n\nIowa DOT\n\nSioux Gateway Airport\n\nSIMPCO\n\nCity of Sioux City\, South Sioux City\, Sergeant Bluff\n\nWoodbury County\n\nBarge/Missouri River\n\nSiouxland Trails
X-ALT-DESC;FMTTYPE=text/html:<div style="text-align: center\;"><br />\n<span style="font-size: 14px\;"><strong>Agenda</strong></span><br />\n<strong>I. Sioux Gateway Airport Update</strong><br />\nDarren Christopher\, Aviation Engineer\, RS&amp\;H</div>\n\n<div style="text-align: center\;">Mike Collett\, Assistant City Manager &amp\; Airport Director\, Sioux Gateway Airport<br />\nDave Zimmerman\, General Manager\, Hawthorne Global Aviation<br />\n<br />\n<strong>II. Reports/Updates</strong><br />\nIowa DOT<br />\nSioux Gateway Airport<br />\nSIMPCO<br />\nCity of Sioux City\, South Sioux City\, Sergeant Bluff<br />\nWoodbury County<br />\nBarge/Missouri River<br />\nSiouxland Trails</div>\n
LOCATION:Siouxland Chamber of Commerce 101 Pierce Street Sioux City\, IA 51101
UID:e.769.4718
SEQUENCE:3
DTSTAMP:20260420T145825Z
URL:https://directory.siouxlandchamber.com/events/details/transportation-committee-meeting-4718
END:VEVENT

END:VCALENDAR
