BEGIN:VCALENDAR
VERSION:2.0
PRODID:-//ChamberMaster//Event Calendar 2.0//EN
METHOD:PUBLISH
X-PUBLISHED-TTL:P3D
REFRESH-INTERVAL:P3D
CALSCALE:GREGORIAN
BEGIN:VEVENT
DTSTART:20171116T180000Z
DTEND:20171116T190000Z
X-MICROSOFT-CDO-ALLDAYEVENT:FALSE
SUMMARY:Transportation Committee Meeting
DESCRIPTION:Agenda\n\nI. Bridgeport Improvements\n\nEric Hanson\, Lead Systems Engineer\, HR Green\n\nJonathan Wiegand\, Traffic Engineer\, HR Green\n\nBrett Langley\, Civil Engineer\, City of Sioux City\n\n\n\nII. Reports/Updates\n\nIowa DOT\n\nSioux Gateway Airport\n\nSIMPCO\n\nCity of Sioux City\, South Sioux City\, Sergeant Bluff\n\nWoodbury County\n\nBarge/Missouri River\n\nSiouxland Trails
X-ALT-DESC;FMTTYPE=text/html:<div style="text-align: center\;"><span style="font-size:14px\;"><strong>Agenda</strong></span><br />\n<strong>I. Bridgeport Improvements</strong><br />\nEric Hanson\, Lead Systems Engineer\, HR Green<br />\nJonathan Wiegand\, Traffic&nbsp\;Engineer\, HR Green<br />\nBrett Langley\, Civil Engineer\, City of Sioux City<br />\n<br />\n<strong>II. Reports/Updates</strong><br />\nIowa DOT<br />\nSioux Gateway Airport<br />\nSIMPCO<br />\nCity of Sioux City\, South Sioux City\, Sergeant Bluff<br />\nWoodbury County<br />\nBarge/Missouri River<br />\nSiouxland Trails</div>\n
LOCATION:Siouxland Chamber of Commerce
UID:e.769.4600
SEQUENCE:3
DTSTAMP:20260420T061425Z
URL:https://directory.siouxlandchamber.com/events/details/transportation-committee-meeting-4600
END:VEVENT

END:VCALENDAR
