BEGIN:VCALENDAR
VERSION:2.0
PRODID:-//ChamberMaster//Event Calendar 2.0//EN
METHOD:PUBLISH
X-PUBLISHED-TTL:P3D
REFRESH-INTERVAL:P3D
CALSCALE:GREGORIAN
BEGIN:VEVENT
DTSTART:20170817T170000Z
DTEND:20170817T180000Z
X-MICROSOFT-CDO-ALLDAYEVENT:FALSE
SUMMARY:Transportation Committee Meeting
DESCRIPTION:Agenda\n\n\n\nI. Program: Plywood Trail - Greg Grupp\n\n\n\nII. Reports/Updates\n\n\n\nPlease RSVP and include whether or not you would like lunch ordered at a cost of $10 to Teresa.
X-ALT-DESC;FMTTYPE=text/html:Agenda<br />\n<br />\nI. Program: Plywood Trail - Greg Grupp<br />\n<br />\nII. Reports/Updates<br />\n<br />\nPlease RSVP and include whether or not you would like lunch ordered at a cost of $10 to <a href="mailto:trosenboom@siouxlandchamber.com?subject=Transportation%20Committee%20Meeting"><span style="color:#0000FF\;">Teresa</span></a>.
LOCATION:Siouxland Chamber of Commerce
UID:e.769.3549
SEQUENCE:3
DTSTAMP:20260420T015250Z
URL:https://directory.siouxlandchamber.com/events/details/transportation-committee-meeting-3549
END:VEVENT

END:VCALENDAR
