BEGIN:VCALENDAR
VERSION:2.0
PRODID:-//ChamberMaster//Event Calendar 2.0//EN
METHOD:PUBLISH
X-PUBLISHED-TTL:P3D
REFRESH-INTERVAL:P3D
CALSCALE:GREGORIAN
BEGIN:VEVENT
DTSTART:20170518T170000Z
DTEND:20170518T180000Z
X-MICROSOFT-CDO-ALLDAYEVENT:FALSE
SUMMARY:Transportation Committee Meeting
DESCRIPTION:Transportation Committee Meeting\n\n\n\nAgenda\n\nI. Siouxland Railroad Studies - Jill Wanderscheid\, City of Sioux City and Dakin Schultz\, Iowa Department of Transportation\n\n\n\nII. Reports/Updates - Iowa DOT\, Sioux Gateway Airport\, SIMPCO\, City of Sioux City\, South Sioux City and Sergeant Bluff\, Woodbury County\, Barge/Missouri River\, Siouxland Trails
X-ALT-DESC;FMTTYPE=text/html:Transportation Committee Meeting<br />\n<br />\nAgenda<br />\nI. Siouxland Railroad Studies - Jill Wanderscheid\, City of Sioux City and Dakin Schultz\, Iowa Department of Transportation<br />\n<br />\nII. Reports/Updates - Iowa DOT\, Sioux Gateway Airport\, SIMPCO\, City of Sioux City\, South Sioux City and Sergeant Bluff\, Woodbury County\, Barge/Missouri River\, Siouxland Trails
LOCATION:Siouxland Chamber of Commerce
UID:e.769.3495
SEQUENCE:3
DTSTAMP:20260419T225649Z
URL:https://directory.siouxlandchamber.com/events/details/transportation-committee-meeting-3495
END:VEVENT

END:VCALENDAR
