BEGIN:VCALENDAR
VERSION:2.0
PRODID:-//ChamberMaster//Event Calendar 2.0//EN
METHOD:PUBLISH
X-PUBLISHED-TTL:P3D
REFRESH-INTERVAL:P3D
CALSCALE:GREGORIAN
BEGIN:VEVENT
DTSTART:20170216T180000Z
DTEND:20170216T190000Z
X-MICROSOFT-CDO-ALLDAYEVENT:FALSE
SUMMARY:Transportation Committee Meeting
DESCRIPTION:Program is the potential new I-29 Interchange presented by Mark Nahra with Woodbury County and Ryan Davis with McClure Engineering. RSVP your attendance and whether or not you would like lunch ordered at a cost of $10.
X-ALT-DESC;FMTTYPE=text/html:Program is the potential new I-29 Interchange presented by Mark Nahra with Woodbury County and Ryan Davis with McClure Engineering. RSVP your attendance and whether or not you would like lunch ordered at a cost of $10.
LOCATION:Siouxland Chamber of Commerce Lower Level Board Room 101 Pierce Street Sioux City\, IA
UID:e.769.3446
SEQUENCE:3
DTSTAMP:20260419T181547Z
URL:https://directory.siouxlandchamber.com/events/details/transportation-committee-meeting-3446
END:VEVENT

END:VCALENDAR
