BEGIN:VCALENDAR
VERSION:2.0
PRODID:-//ChamberMaster//Event Calendar 2.0//EN
METHOD:PUBLISH
X-PUBLISHED-TTL:P3D
REFRESH-INTERVAL:P3D
CALSCALE:GREGORIAN
BEGIN:VEVENT
DTSTART:20161117T180000Z
DTEND:20161117T190000Z
X-MICROSOFT-CDO-ALLDAYEVENT:FALSE
SUMMARY:Transportation Committee Meeting
DESCRIPTION:Topic is Bridgeport Improvements with guest speakers\, Chis Myres\, Economic Development Specialist\; Glenn Ellis\, City Engineer and Brett Langley\, Civil Engineer.\n\n\n\nPlease RSVP and include whether or not you would like lunch ordered at a cost of $10 to trosenboom@siouxlandchamber.com.
X-ALT-DESC;FMTTYPE=text/html:Topic is Bridgeport Improvements with guest speakers\, Chis&nbsp\;Myres\, Economic Development Specialist\; Glenn Ellis\, City Engineer and Brett Langley\, Civil Engineer.<br />\n<br />\nPlease RSVP and include whether or not you would like lunch ordered at a cost of $10 to <a href="mailto:trosenboom@siouxlandchamber.com?subject=Transportation%20Committee%20Meeting%20RSVP">trosenboom@siouxlandchamber.com</a>.
LOCATION:
UID:e.769.3398
SEQUENCE:3
DTSTAMP:20260419T134310Z
URL:https://directory.siouxlandchamber.com/events/details/transportation-committee-meeting-3398
END:VEVENT

END:VCALENDAR
