BEGIN:VCALENDAR
VERSION:2.0
PRODID:-//ChamberMaster//Event Calendar 2.0//EN
METHOD:PUBLISH
X-PUBLISHED-TTL:P3D
REFRESH-INTERVAL:P3D
CALSCALE:GREGORIAN
BEGIN:VEVENT
DTSTART:20160218T180000Z
DTEND:20160218T190000Z
X-MICROSOFT-CDO-ALLDAYEVENT:FALSE
SUMMARY:Transportation Committee Meeting
DESCRIPTION:Transportation Committee Meeting\n\nThursday\, February 18\, 2016\n\n12:00 Noon\n\nSiouxland Chamber of Commerce\n\n\n\nAgenda\n\n\n\nI. Air Service Update   Darrell Jesse\, Airport Board President & Mike Collett\, Airport Director\n\nII. Reports/Updates
X-ALT-DESC;FMTTYPE=text/html:<br />\n<span style="font-family:arial\,sans-serif\;"><span style="font-size:11pt\;">Transportation Committee Meeting<br />\nThursday\, February 18\, 2016</span></span><br />\n<span style="font-family:arial\,sans-serif\;"><span style="font-size:11.0pt\;">12:00 Noon<br />\nSiouxland Chamber of Commerce</span></span><br />\n<br />\n<strong><span style="font-family:arial\,sans-serif\;">Agenda</span></strong><br />\n<br />\n<span style="font-family:arial\,sans-serif\;">I. </span><span style="font-family:arial\,sans-serif\;">Air Service Update &ndash\; Darrell Jesse\, Airport Board President&nbsp\;&amp\; Mike Collett\, Airport Director</span><br />\n<span style="color:#222222\;"><span style="font-family:arial\,sans-serif\;">I</span></span><span style="font-family:arial\,sans-serif\;">I<span style="color:#222222\;">. Reports/Updates</span></span><br />\n<br />\n&nbsp\;
LOCATION:Siouxland Chamber of Commerce 101 Pierce Street\, Sioux City\, IA
UID:e.769.3225
SEQUENCE:3
DTSTAMP:20260421T174154Z
URL:https://directory.siouxlandchamber.com/events/details/transportation-committee-meeting-02-18-2016-3225
END:VEVENT

END:VCALENDAR
