BEGIN:VCALENDAR
VERSION:2.0
PRODID:-//ChamberMaster//Event Calendar 2.0//EN
METHOD:PUBLISH
X-PUBLISHED-TTL:P3D
REFRESH-INTERVAL:P3D
CALSCALE:GREGORIAN
BEGIN:VEVENT
DTSTART:20220919T210000Z
DTEND:20220919T220000Z
X-MICROSOFT-CDO-ALLDAYEVENT:FALSE
SUMMARY:South Dakota District 17 Candidate Forum
DESCRIPTION:2022 South Dakota District 17 Candidate Forum\n\nMonday\, September 19\, 2022\n\n4:00 p.m.\n\nNorth Sioux City Hall\n\n504 River Drive\n\nNorth Sioux City\, South Dakota\n\n \n\nSenate Candidates\n\nSydney Davis (R) - Burbank\n\n \n\nHouse Candidates\n\nBekki Engquist-Schroeder (D)    Vermillion\n\nChris Kassin (R)   Vermillion\n\nBill Shorma (R)   Dakota Dunes
X-ALT-DESC;FMTTYPE=text/html:<div style="text-align: center\;"><strong><span style="color:black\;"><span style="font-size:16.0pt\;">2022 South Dakota District 17 Candidate Forum</span></span></strong><br />\n<strong><span style="color:black\;"><span style="font-size:16.0pt\;">Monday\, September 19\, 2022</span></span></strong><br />\n<span style="color:black\;"><span style="font-size:14.0pt\;">4:00 p.m.<br />\nNorth Sioux City Hall</span></span><br />\n<span style="color:black\;"><span style="font-size:14.0pt\;">504 River Drive</span></span><br />\n<span style="color:black\;"><span style="font-size:14.0pt\;">North Sioux City\, South Dakota</span></span><br />\n&nbsp\;<br />\n<strong><u><span style="color:black\;"><span style="font-size:14.0pt\;">Senate Candidates</span></span></u></strong><br />\n<span style="color:black\;"><span style="font-size:14.0pt\;">Sydney Davis (R) - Burbank</span></span><br />\n&nbsp\;<br />\n<strong><u><span style="color:black\;"><span style="font-size:14.0pt\;">House Candidates</span></span></u></strong><br />\n<span style="color:black\;"><span style="font-size:14.0pt\;">Bekki Engquist-Schroeder (D) &nbsp\;&ndash\; Vermillion</span></span><br />\n<span style="color:black\;"><span style="font-size:14.0pt\;">Chris Kassin (R) &ndash\; Vermillion<br />\nBill Shorma (R) &ndash\; Dakota Dunes</span></span></div>\n
LOCATION:
UID:e.769.5864
SEQUENCE:3
DTSTAMP:20260419T230503Z
URL:https://directory.siouxlandchamber.com/events/details/south-dakota-district-17-candidate-forum-5864
END:VEVENT

END:VCALENDAR
