BEGIN:VCALENDAR
VERSION:2.0
PRODID:-//ChamberMaster//Event Calendar 2.0//EN
METHOD:PUBLISH
X-PUBLISHED-TTL:P3D
REFRESH-INTERVAL:P3D
CALSCALE:GREGORIAN
BEGIN:VEVENT
DTSTART:20190227T180000Z
DTEND:20190227T190000Z
X-MICROSOFT-CDO-ALLDAYEVENT:FALSE
SUMMARY:Small Business Education Series - X-posing EXPO Dos & Don'ts
DESCRIPTION:The Siouxland Chamber Ambassadors will host  "X-posing EXPO Dos & Don'ts" - a guide to help vendors plan and achieve the most effective vending experience whether it be for the Small Business EXPO scheduled for April 16th\, or another vending opportunity. \n\n \n\n\nLocation: Long Lines Family Rec Center\, 401 Gordon Drive\, 3rd floor conference room \n\n\n\nThe Small Business Education Series\, is a peer-to-peer information exchange presented by the Siouxland Chamber of Commerce. Join us each month as a local subject matter expert will share their expertise and experience on timely\, focused topics important to small business owners. Whether it's accounting\, HR\, legal\, banking & finance\, marketing\, or management the Small Business Education Series will give you the tools and knowledge you need to more effectively run your small business.\n\n\n\nNot a member? If you're a business large or small in the Siouxland area you should be! Join Now to enjoy all of the benefits only a Siouxland Chamber membership can offer.
X-ALT-DESC;FMTTYPE=text/html:<div style="text-align: justify\;"><span style="color: rgb(68\, 68\, 68)\; font-family:\;"><span style="font-size: 14px\;"><span style="font-family: arial\;">The Siouxland Chamber Ambassadors will host&nbsp\; &quot\;X-posing EXPO Dos &amp\; Don&#39\;ts&quot\; -&nbsp\;a guide to help vendors plan and achieve the most effective vending experience whether it be for the Small Business EXPO scheduled for April 16th\, or another vending opportunity.</span>&nbsp\;</span></span><br />\n&nbsp\;</div>\n<br />\n<span style="color: rgb(68\, 68\, 68)\; font-family:\;"><span style="font-size: 14px\;"><strong><em><span style="font-family: arial\;">Location:&nbsp\;Long Lines Family Rec Center\, 401 Gordon Drive\, 3rd floor conference room</span></em></strong>&nbsp\;</span><br />\n<br />\n<span style="font-family: arial\;">The&nbsp\;<span style="border-radius: 0px\; border: currentColor\; border-image: none\; right: auto\; bottom: auto\; overflow: visible\; visibility: inherit\; z-index: auto\; max-height: none\; max-width: none\; content: normal\; box-sizing: content-box\; empty-cells: show\; opacity: 1\; box-shadow: none\; resize: none\; outline-offset: 0px\;"><b>Small Business Education&nbsp\;Series</b></span>\, is a peer-to-peer information exchange presented by the&nbsp\;Siouxland&nbsp\;Chamber of Commerce. Join us each month as a local subject matter expert will share their expertise and experience on timely\, focused topics important to small business owners. Whether it&#39\;s accounting\, HR\, legal\, banking &amp\; finance\, marketing\, or management the Small Business Education Series will give you the tools and knowledge you need to more effectively run your small <span style="font-size: 12px\;">business.</span></span></span><br />\n<br />\n<span style="font-family: arial\;"><span style="font-size: 12px\;"><strong><i><font color="#000000">Not a member?</font></i></strong><font color="#000000"> If you&#39\;re a business large or small in the&nbsp\;Siouxland&nbsp\;area you should be!&nbsp\;</font><a href="http://directory.siouxlandchamber.com/member/newmemberapp/"><font color="#0000ff">Join Now</font></a><font color="#000000">&nbsp\;to enjoy&nbsp\;all of the benefits only a&nbsp\;Siouxland&nbsp\;Chamber membership can offer.</font></span></span>\n\n<p>&nbsp\;</p>\n
LOCATION:Long Lines Family Rec Center 401 Gordon Drive 3rd floor conference room
UID:e.769.4878
SEQUENCE:3
DTSTAMP:20260421T045918Z
URL:https://directory.siouxlandchamber.com/events/details/small-business-education-series-x-posing-expo-do-s-don-ts-4878
END:VEVENT

END:VCALENDAR
