BEGIN:VCALENDAR
VERSION:2.0
PRODID:-//ChamberMaster//Event Calendar 2.0//EN
METHOD:PUBLISH
X-PUBLISHED-TTL:P3D
REFRESH-INTERVAL:P3D
CALSCALE:GREGORIAN
BEGIN:VEVENT
DTSTART:20150811T123000Z
DTEND:20150811T133000Z
X-MICROSOFT-CDO-ALLDAYEVENT:FALSE
SUMMARY:Small Business Education Series - Positive Leadership
DESCRIPTION:Positive Leadership - Authenticity\n\nAmanda Beller & Brenda Noll\n\nLeadership Siouxland\n\n\n\n\n\nIn this lean time where doing more with less is the new norm\, strong leadership is key.  With all the buzz words\, nothing speaks louder than positivity.\n\n \n\nAmanda Beller and Brenda Noll of the Leadership Siouxland program will touch on the seven capacities of Positive Leadership \, then delve deeper into the first\, Authenticity\, with lively discussion and activities. Positive Leadership provides a thought-provoking roadmap for training leaders based on the principles of positive psychology. Businesses\, agencies\, educators and leadership programs across the country use this approach\, which resonates well with participants.\n\n \n\nLeadership Siouxland is the community leadership development program for the tri-state area of Iowa\, Nebraska and South Dakota. Its purpose is to train community-minded individuals from business\, government\, education and other sectors for leadership opportunities.\n\n\n\n \n\nThe Small Business Education Series\, is a peer-to-peer information exchange presented by the Siouxland Chamber of Commerce. Join us each month as a local subject matter expert will share their expertise and experience on timely\, focused topics important to small business owners. Whether it's accounting\, HR\, legal\, banking & finance\, marketing\, or management the Small Business Education Series will give you the tools and knowledge you need to more effectively run your small business.\n\n\n\nNot a member? If you're a business large or small in the Siouxland area you should be! Join Now to enjoy all of the benefits only a Siouxland Chamber membership can offer.\n\n\n\nThe Small Business Education Series is a free service for members of the Siouxland Chamber of Commerce.
X-ALT-DESC;FMTTYPE=text/html:<span style="font-size: 14px\;"><strong>Positive Leadership - Authenticity</strong><br />\n<font color="#444444"><span style="line-height: 18.2px\;">Amanda Beller &amp\; Brenda Noll</span></font><br />\nLeadership Siouxland</span><br />\n<br />\n<br />\n<strong><span style="font-size: 14px\;"><em><span style="font-family: arial\,sans-serif\;">In this lean time where doing more with less is the new norm\, strong leadership is key.&nbsp\; With all the buzz words\, nothing speaks louder than positivity.</span></em></span></strong><br />\n&nbsp\;<br />\n<span style="font-size: 14px\;"><span style="font-family: arial\,sans-serif\;">Amanda Beller and Brenda Noll of the Leadership Siouxland program will touch on the seven capacities of Positive Leadership&copy\;\, then delve deeper into the first\, Authenticity\, with lively discussion and activities. Positive Leadership provides a thought-provoking roadmap for training leaders based on the principles of positive psychology. Businesses\, agencies\, educators and leadership programs across the country use this approach\, which resonates well with participants.</span></span><br />\n&nbsp\;<br />\n<span style="font-size: 14px\;"><span style="font-family: arial\,sans-serif\;">Leadership Siouxland is the community leadership development program for the tri-state area of Iowa\, Nebraska and South Dakota. Its purpose is to train community-minded individuals from business\, government\, education and other sectors for leadership opportunities.</span></span><br />\n<br />\n&nbsp\;<br />\n<span style="color: rgb(68\, 68\, 68)\; line-height: 18.2px\; font-size: 14px\;">The&nbsp\;</span><span style="margin: 0px\; padding: 0px\; border-radius: 0px\; border: currentColor\; border-image: 100% 1 0\; left: auto\; top: auto\; width: auto\; height: auto\; right: auto\; bottom: auto\; color: rgb(68\, 68\, 68)\; line-height: 18.2px\; overflow: visible\; clear: none\; font-size: 14px\; font-weight: 700\; vertical-align: baseline\; visibility: inherit\; border-collapse: separate\; position: static\; z-index: auto\; table-layout: auto\; direction: inherit\; max-height: none\; max-width: none\; content: normal\; box-sizing: content-box\; empty-cells: show\; opacity: 1\; box-shadow: none\; background-image: none\; resize: none\; outline-offset: 0px\;">Small Business Education&nbsp\;Series</span><span style="color: rgb(68\, 68\, 68)\; line-height: 18.2px\; font-size: 14px\;">\, is a peer-to-peer information exchange presented by the&nbsp\;Siouxland&nbsp\;Chamber of Commerce. Join us each month as a local subject matter expert will share their expertise and experience on timely\, focused topics important to small business owners. Whether it&#39\;s accounting\, HR\, legal\, banking &amp\; finance\, marketing\, or management the Small Business Education Series will give you the tools and knowledge you need to more effectively run your small business.</span><br />\n<br />\n<span style="font-size: 14px\;"><span style="line-height: 20.79px\;"><em><strong>Not a member?</strong></em> If you&#39\;re a business large or small in the&nbsp\;</span>Siouxland<span style="line-height: 20.79px\;">&nbsp\;area you should be!&nbsp\;</span><a href="http://directory.siouxlandchamber.com/member/newmemberapp/" style="line-height: 20.79px\;"><span style="color: rgb(0\, 0\, 255)\;">Join Now</span></a><span style="line-height: 20.79px\;">&nbsp\;to enjoy&nbsp\;all of the benefits only a&nbsp\;</span>Siouxland<span style="line-height: 20.79px\;">&nbsp\;Chamber membership can offer.</span></span><br />\n<br />\n<em style="margin: 0px\; padding: 0px\; border-radius: 0px\; border: currentColor\; border-image: 100% 1 0\; left: auto\; top: auto\; width: auto\; height: auto\; right: auto\; bottom: auto\; color: rgb(68\, 68\, 68)\; line-height: 18.2px\; overflow: visible\; clear: none\; font-family: Arial\, Helvetica\, sans-serif\; font-size: 14px\; vertical-align: baseline\; float: none\; display: inline\; visibility: inherit\; border-collapse: separate\; position: static\; z-index: auto\; table-layout: auto\; direction: inherit\; -ms-word-break: inherit\; -ms-text-justify: inherit\; -ms-word-wrap: inherit\; -ms-text-overflow: clip\; max-height: none\; max-width: none\; content: normal\; box-sizing: content-box\; empty-cells: show\; opacity: 1\; box-shadow: none\; background-image: none\; resize: none\; outline-offset: 0px\;">The Small Business Education Series is a free service for members of the Siouxland Chamber of Commerce.</em>
LOCATION:Siouxland Chamber of Commerce 101 Pierce Street Sioux City\, IA
UID:e.769.2149
SEQUENCE:3
DTSTAMP:20260421T132313Z
URL:https://directory.siouxlandchamber.com/events/details/small-business-education-series-positive-leadership-08-11-2015-2149
END:VEVENT

END:VCALENDAR
