BEGIN:VCALENDAR
VERSION:2.0
PRODID:-//ChamberMaster//Event Calendar 2.0//EN
METHOD:PUBLISH
X-PUBLISHED-TTL:P3D
REFRESH-INTERVAL:P3D
CALSCALE:GREGORIAN
BEGIN:VEVENT
DTSTART:20230222T180000Z
DTEND:20230222T190000Z
X-MICROSOFT-CDO-ALLDAYEVENT:FALSE
SUMMARY:Small Business Education Series February 2023
DESCRIPTION:Are you looking to purchase a business and not sure if you're paying too much? Are you looking to sell a business and not sure if the price is right? When should you get a valuation done on your business? Join us for SBES and learn more about business valuation from Ericka Heiser from Heiser Valuation.
X-ALT-DESC;FMTTYPE=text/html:<span style="font-size:14px\;"><span style="font-family:arial\;">Are you looking to purchase a business and not sure if you&rsquo\;re paying too much? Are you looking to sell a business and not sure if the price is right?&nbsp\;When should you get a valuation done on your business? Join us for SBES and learn more about business valuation from Ericka Heiser from Heiser Valuation.</span></span>
LOCATION:Meeting will be available in person at the Siouxland Chamber of Commerce or via Zoom. 101 Pierce Street Sioux City\, Iowa
UID:e.769.5947
SEQUENCE:3
DTSTAMP:20260419T151805Z
URL:https://directory.siouxlandchamber.com/events/details/small-business-education-series-february-2023-5947
END:VEVENT

END:VCALENDAR
