BEGIN:VCALENDAR
VERSION:2.0
PRODID:-//ChamberMaster//Event Calendar 2.0//EN
METHOD:PUBLISH
X-PUBLISHED-TTL:P3D
REFRESH-INTERVAL:P3D
CALSCALE:GREGORIAN
BEGIN:VEVENT
DTSTART:20200923T130000Z
DTEND:20200923T140000Z
X-MICROSOFT-CDO-ALLDAYEVENT:FALSE
SUMMARY:Small Business Education Series 9/23/20
DESCRIPTION:IEDA's "Shop Iowa" Program\n\n\n\nJim Thompson with the Iowa Economic Development Authority will inform us about the Shop Iowa program and answer any questions. To support the state's retailers during this unprecedented time\, Shop Iowa offers the opportunity to have a presence on an online marketplace. The program is funded through IEDA through June 2021. Join us via Zoom to learn more about this marketing tool.\n\n\n\nIEDA's mission is to strengthen economic and community vitality by building partnerships and leveraging resources to make Iowa the choice of people and business.
X-ALT-DESC;FMTTYPE=text/html:IEDA&#39\;s &quot\;<strong><a href="https://www.iowaeconomicdevelopment.com/shopiowa">Shop Iowa</a></strong>&quot\; Program<br />\n<br />\nJim Thompson with the Iowa Economic Development Authority will inform us about the <strong><a href="https://www.iowaeconomicdevelopment.com/shopiowa">Shop Iowa</a></strong> program and answer any questions. To support the state&#39\;s retailers during this unprecedented time\, <strong><a href="https://www.iowaeconomicdevelopment.com/shopiowa">Shop Iowa</a></strong> offers the opportunity to have a presence on an online marketplace. The program is funded through IEDA through June 2021. Join us via <strong><a href="https://us02web.zoom.us/j/88051483703">Zoom</a></strong>&nbsp\;to learn more about this marketing tool.<br />\n<br />\nIEDA&#39\;s mission is to strengthen economic and community vitality by building partnerships and leveraging resources to make Iowa the choice of people and business.
LOCATION:Join Zoom Meeting https://us02web.zoom.us/j/88051483703
UID:e.769.5394
SEQUENCE:3
DTSTAMP:20260421T104903Z
URL:https://directory.siouxlandchamber.com/events/details/small-business-education-series-9-23-20-5394
END:VEVENT

END:VCALENDAR
