BEGIN:VCALENDAR
VERSION:2.0
PRODID:-//ChamberMaster//Event Calendar 2.0//EN
METHOD:PUBLISH
X-PUBLISHED-TTL:P3D
REFRESH-INTERVAL:P3D
CALSCALE:GREGORIAN
BEGIN:VEVENT
DTSTART:20170830T170000Z
DTEND:20170830T180000Z
X-MICROSOFT-CDO-ALLDAYEVENT:FALSE
SUMMARY:Small Business Education Series 8/30/17
DESCRIPTION:Storefronts 101\n\nImproving Your Store's Image to Increase Sales and Foot Traffic\n\n\n\nRagen Cote\n\nDowntown Partners\n\n\n\nIf you own a storefront business anywhere in Siouxland\, this one is for you! Ragen Cote will share tips on how you can use your storefront to convey your business's message. Drawing from the latest information gained from national experts\, industry data\, and her own extensive work with downtown businesses\, Ragen will share best practices from around the country\, as well as our own backyard\, about how you can take your storefront to the next level.\n\n\n\nNote the noon start time and feel free to bring a lunch!\n\n\n\n\n\nAbout Ragen Cote\n\nRagen Cote is the Executive Director of Downtown Partners Sioux City. With over 30 years  in Siouxland\, and 8 years in her current downtown revitalization and management role\, Ragen is a recognized leader in the community and in her profession nationwide. She holds a degree in International Business from Morningside College and proudly serves on a wide variety of local boards and committees.\n\n\n\n\n\nThe Small Business Education Series\, is a peer-to-peer information exchange presented by the Siouxland Chamber of Commerce. Join us each month as a local subject matter expert will share their expertise and experience on timely\, focused topics important to small business owners. Whether it's accounting\, HR\, legal\, banking & finance\, marketing\, or management the Small Business Education Series will give you the tools and knowledge you need to more effectively run your small business.\n\n\n\nNot a member? If you're a business large or small in the Siouxland area you should be! Join Now to enjoy all of the benefits only a Siouxland Chamber membership can offer.\n\n\n\nThe Small Business Education Series is a free service for members of the Siouxland Chamber of Commerce.
X-ALT-DESC;FMTTYPE=text/html:<p><span style="font-size: 14px\;"><b>Storefronts 101</b></span><br />\n<em>Improving Your Store&#39\;s Image to Increase Sales and&nbsp\;Foot Traffic</em><br />\n<br />\n<strong><font color="#444444">Ragen Cote</font><br />\nDowntown Partners</strong><br />\n<br />\n<font face="arial\, sans-serif"><span style="font-size: 14px\;">If you own a storefront business anywhere in Siouxland\, this one is for you!&nbsp\;Ragen&nbsp\;Cote will share tips on how you can use your storefront to convey your business&#39\;s message. Drawing from the latest information gained from&nbsp\;national experts\, industry data\, and her own extensive work with downtown businesses\, Ragen&nbsp\;will share best practices from around the country\, as well as our own backyard\, about how you can take your storefront to the next level.<br />\n<br />\n<strong><em>Note the noon start time and feel free to bring a lunch!</em></strong><br />\n<br />\n<br />\n<strong>About Ragen&nbsp\;Cote</strong></span></font><br />\n<font face="arial\, sans-serif"><span style="font-size: 14px\;">Ragen&nbsp\;Cote is the Executive Director of Downtown Partners Sioux City. With over 30 years &nbsp\;in Siouxland\, and 8 years in her current downtown revitalization and management role\, Ragen is a recognized leader in the community and in her profession nationwide. She holds a degree in International Business from Morningside College and proudly serves on a wide variety of local boards and committees.</span></font><br />\n<br />\n<br />\n<span style="color: rgb(68\, 68\, 68)\; line-height: 18.2px\; font-size: 14px\;">The&nbsp\;</span><span style="margin: 0px\; padding: 0px\; border-radius: 0px\; border: currentColor\; border-image: 100% 1 0\; left: auto\; top: auto\; width: auto\; height: auto\; right: auto\; bottom: auto\; color: rgb(68\, 68\, 68)\; line-height: 18.2px\; overflow: visible\; clear: none\; font-size: 14px\; font-weight: 700\; vertical-align: baseline\; visibility: inherit\; border-collapse: separate\; position: static\; z-index: auto\; table-layout: auto\; direction: inherit\; max-height: none\; max-width: none\; content: normal\; box-sizing: content-box\; empty-cells: show\; opacity: 1\; box-shadow: none\; background-image: none\; resize: none\; outline-offset: 0px\;">Small Business Education&nbsp\;Series</span><span style="color: rgb(68\, 68\, 68)\; line-height: 18.2px\; font-size: 14px\;">\, is a peer-to-peer information exchange presented by the&nbsp\;Siouxland&nbsp\;Chamber of Commerce. Join us each month as a local subject matter expert will share their expertise and experience on timely\, focused topics important to small business owners. Whether it&#39\;s accounting\, HR\, legal\, banking &amp\; finance\, marketing\, or management the Small Business Education Series will give you the tools and knowledge you need to more effectively run your small business.</span><br />\n<br />\n<span style="font-size: 14px\;"><span style="line-height: 20.79px\;"><em><strong>Not a member?</strong></em> If you&#39\;re a business large or small in the&nbsp\;</span>Siouxland<span style="line-height: 20.79px\;">&nbsp\;area you should be!&nbsp\;</span><a href="http://directory.siouxlandchamber.com/member/newmemberapp/" style="line-height: 20.79px\;"><span style="color: rgb(0\, 0\, 255)\;">Join Now</span></a><span style="line-height: 20.79px\;">&nbsp\;to enjoy&nbsp\;all of the benefits only a&nbsp\;</span>Siouxland<span style="line-height: 20.79px\;">&nbsp\;Chamber membership can offer.</span></span><br />\n<br />\n<em style="margin: 0px\; padding: 0px\; border-radius: 0px\; border: currentColor\; border-image: 100% 1 0\; left: auto\; top: auto\; width: auto\; height: auto\; right: auto\; bottom: auto\; color: rgb(68\, 68\, 68)\; line-height: 18.2px\; overflow: visible\; clear: none\; font-family: Arial\, Helvetica\, sans-serif\; font-size: 14px\; vertical-align: baseline\; float: none\; display: inline\; visibility: inherit\; border-collapse: separate\; position: static\; z-index: auto\; table-layout: auto\; direction: inherit\; -ms-word-break: inherit\; -ms-text-justify: inherit\; -ms-word-wrap: inherit\; -ms-text-overflow: clip\; max-height: none\; max-width: none\; content: normal\; box-sizing: content-box\; empty-cells: show\; opacity: 1\; box-shadow: none\; background-image: none\; resize: none\; outline-offset: 0px\;">The Small Business Education Series is a free service for members of the Siouxland Chamber of Commerce.</em></p>\n
LOCATION:Siouxland Chamber of Commerce 101 Pierce Street Sioux City\, IA
UID:e.769.3558
SEQUENCE:3
DTSTAMP:20260420T015452Z
URL:https://directory.siouxlandchamber.com/events/details/small-business-education-series-8-30-17-3558
END:VEVENT

END:VCALENDAR
