BEGIN:VCALENDAR
VERSION:2.0
PRODID:-//ChamberMaster//Event Calendar 2.0//EN
METHOD:PUBLISH
X-PUBLISHED-TTL:P3D
REFRESH-INTERVAL:P3D
CALSCALE:GREGORIAN
BEGIN:VEVENT
DTSTART:20200820T170000Z
DTEND:20200820T180000Z
X-MICROSOFT-CDO-ALLDAYEVENT:FALSE
SUMMARY:Small Business Education Series 8/20/20
DESCRIPTION:"Selling in Uncertain Times" Webinar\n\nPresented by Sandler Training \n\nhttps://www.karlschaphorst.sandler.com/\n\n\n\nJoin us for a virtual presentation by Sandler Training on how to navigate in the world of sales while dealing with uncertainty\, especially during these challenging times. Prepare your business today to stay in front of your competitors! More information on the presentation is provided here. \n\n\n\nClick here to join via zoom.
X-ALT-DESC;FMTTYPE=text/html:<span style="font-size:16px\;"><span style="color:#0000FF\;"><em><strong><span style="font-family:arial\,sans-serif\;">&quot\;Selling in Uncertain Times&quot\; Webinar</span></strong></em></span></span><br />\n<span style="font-size:16px\;"><strong><span style="color:#333333\;"><span style="font-family:arial\,sans-serif\;">Presented by Sandler Training</span></span></strong><em><strong><span style="color:#333333\;"><span style="font-family:arial\,sans-serif\;">&nbsp\;</span></span></strong></em><br />\n<a href="https://www.karlschaphorst.sandler.com/">https://www.karlschaphorst.sandler.com/</a></span><br />\n<br />\nJoin us for a virtual presentation by Sandler Training on how to navigate in the world of sales while dealing with uncertainty\, especially during these challenging times. Prepare your business today to stay in front of your competitors! More information on the presentation is provided <a href="http://siouxlandchamber.com/wp-content/uploads/Sioux-City-virtual-workshop-selling-in-uncertain-times.pdf"><strong>here</strong></a>.&nbsp\;<br />\n<br />\nClick <strong><a href="https://us02web.zoom.us/j/87120384721">here</a></strong> to join via zoom.<br style="font-variant-ligatures:normal\;font-variant-caps:normal\;orphans:2\;text-align:start\;widows:2\;-webkit-text-stroke-width:0px\;text-decoration-style:initial\;word-spacing:0px\;" />\n<br />\n<br />\n&nbsp\;
LOCATION:Zoom
UID:e.769.5387
SEQUENCE:3
DTSTAMP:20260421T122024Z
URL:https://directory.siouxlandchamber.com/events/details/small-business-education-series-8-20-20-5387
END:VEVENT

END:VCALENDAR
