BEGIN:VCALENDAR
VERSION:2.0
PRODID:-//ChamberMaster//Event Calendar 2.0//EN
METHOD:PUBLISH
X-PUBLISHED-TTL:P3D
REFRESH-INTERVAL:P3D
CALSCALE:GREGORIAN
BEGIN:VEVENT
DTSTART:20180725T170000Z
DTEND:20180725T180000Z
X-MICROSOFT-CDO-ALLDAYEVENT:FALSE
SUMMARY:Small Business Education Series 7/25/2018
DESCRIPTION:Trust But Verify - How to Make Sure Your Business Stays Secure\n\nThe average cost of a U.S. data breach in 2017 was $7.35 million. Is your business secure? Is your sensitive information protected? Learn what proactive steps your organization can take to ensure your technology runs efficiently\, to decrease the chances of a data breach\, and to protect your data and organization.\n\n\n\nRiverside Technologies\, Inc. is an IT service provider specializing in managed services\, IT hardware\, warehouse services\, and technology deployment. They understand your challenges\, develop creative solutions\, and provide unmatched responsiveness. RTI is your complete IT source.  http://www.1RTI.com\n\n\n\nMeeting to be held at Chamber office at 701 Pierce St\, Pioneer Bank Building. On-street parking only. Please register online as meeting space is limited.\n\n\n\nThe Small Business Education Series\, is a peer-to-peer information exchange presented by the Siouxland Chamber of Commerce. Join us each month as a local subject matter expert will share their expertise and experience on timely\, focused topics important to small business owners. Whether it's accounting\, HR\, legal\, banking & finance\, marketing\, or management the Small Business Education Series will give you the tools and knowledge you need to more effectively run your small business.\n\n\n\nNot a member? If you're a business large or small in the Siouxland area you should be! Join Now to enjoy all of the benefits only a Siouxland Chamber membership can offer.
X-ALT-DESC;FMTTYPE=text/html:<span style="font-size: 16px\;"><span style="color: rgb(0\, 0\, 255)\;"><strong><em>Trust But Verify - How to Make Sure Your Business Stays Secure</em></strong></span><br />\n<span style="font-size: 14px\;">The average cost of a U.S. data breach in 2017 was $7.35 million. Is your business secure? Is your sensitive information protected? Learn what proactive steps your organization can take to ensure your technology runs efficiently\, to decrease the chances of a data breach\, and to protect your data and organization.</span></span><br />\n<br />\n<span style="font-size: 14px\;">Riverside Technologies\, Inc. is an IT service provider specializing in managed services\, IT hardware\, warehouse services\, and technology deployment.&nbsp\;They understand your challenges\, develop creative solutions\, and provide unmatched responsiveness. RTI is your complete IT source.&nbsp\; <a href="http://www.1RTI.com">http://www.1RTI.com</a></span><br />\n<br />\n<span style="color: rgb(255\, 0\, 0)\;"><em><strong>Meeting to be held at Chamber&nbsp\;office&nbsp\;at&nbsp\;701 Pierce St\, Pioneer Bank Building. On-street parking only. Please register online as meeting space is limited.</strong></em></span><br />\n<br />\n<span style="color: rgb(68\, 68\, 68)\; font-family:\;">The&nbsp\;<span style="border-radius: 0px\; border: currentColor\; border-image: none\; right: auto\; bottom: auto\; overflow: visible\; visibility: inherit\; z-index: auto\; max-height: none\; max-width: none\; content: normal\; box-sizing: content-box\; empty-cells: show\; opacity: 1\; box-shadow: none\; resize: none\; outline-offset: 0px\;"><b>Small Business Education&nbsp\;Series</b></span>\, is a peer-to-peer information exchange presented by the&nbsp\;Siouxland&nbsp\;Chamber of Commerce. Join us each month as a local subject matter expert will share their expertise and experience on timely\, focused topics important to small business owners. Whether it&#39\;s accounting\, HR\, legal\, banking &amp\; finance\, marketing\, or management the Small Business Education Series will give you the tools and knowledge you need to more effectively run your small <span style="font-size: 12px\;">business.</span></span><br />\n<br />\n<span style="font-size: 12px\;"><strong><i><span style="font-family:\;"><font color="#000000">Not a member?</font></span></i></strong><span style="font-family:\;"><font color="#000000"> If you&#39\;re a business large or small in the&nbsp\;Siouxland&nbsp\;area you should be!&nbsp\;</font><a href="http://directory.siouxlandchamber.com/member/newmemberapp/"><font color="#0000ff">Join Now</font></a><font color="#000000">&nbsp\;to enjoy&nbsp\;all of the benefits only a&nbsp\;Siouxland&nbsp\;Chamber membership can offer.</font></span></span>\n<p>&nbsp\;</p>\n
LOCATION:Chamber office at 701 Pierce St\, Pioneer Bank Building
UID:e.769.4689
SEQUENCE:3
DTSTAMP:20260420T180429Z
URL:https://directory.siouxlandchamber.com/events/details/small-business-education-series-7-25-2018-4689
END:VEVENT

END:VCALENDAR
