BEGIN:VCALENDAR
VERSION:2.0
PRODID:-//ChamberMaster//Event Calendar 2.0//EN
METHOD:PUBLISH
X-PUBLISHED-TTL:P3D
REFRESH-INTERVAL:P3D
CALSCALE:GREGORIAN
BEGIN:VEVENT
DTSTART:20200722T170000Z
DTEND:20200722T180000Z
X-MICROSOFT-CDO-ALLDAYEVENT:FALSE
SUMMARY:Small Business Education Series 7/22/20
DESCRIPTION:QuickBooks Online or Desktop - Clearing up the Confusion\n\n\n\nJanine Clover\, Regional Director with America's SBDC\, will join us via Zoom as our presenter. QuickBooks is a popular accounting software\, used by millions of small business owners\, but can be confusing if you are not a "numbers" person. This session will explain how to manage the chart of accounts\, how to input data\, and how to produce the reports needed to help you manage your business. Zoom information below:\n\nJoin Zoom Meeting\n\nhttps://us02web.zoom.us/j/83385486793
X-ALT-DESC;FMTTYPE=text/html:<em><strong><span style="color:#333333\;"><span style="font-family:arial\,sans-serif\;"><span style="font-size:10.0pt\;">QuickBooks Online or Desktop - Clearing up the Confusion</span></span></span></strong></em><br style="font-variant-ligatures:normal\;font-variant-caps:normal\;orphans:2\;text-align:start\;widows:2\;-webkit-text-stroke-width:0px\;text-decoration-style:initial\;word-spacing:0px\;" />\n<br style="font-variant-ligatures:normal\;font-variant-caps:normal\;orphans:2\;text-align:start\;widows:2\;-webkit-text-stroke-width:0px\;text-decoration-style:initial\;word-spacing:0px\;" />\n<span style="color:#333333\;"><span style="font-family:arial\,sans-serif\;"><span style="font-size:10.0pt\;"><span style="background:white\;"><span style="font-variant-ligatures:normal\;font-variant-caps:normal\;orphans:2\;text-align:start\;widows:2\;-webkit-text-stroke-width:0px\;text-decoration-style:initial\;float:none\;word-spacing:0px\;">Janine Clover\, Regional Director with America&#39\;s SBDC\, will join us via Zoom as our presenter. QuickBooks is a popular accounting software\, used by millions of small business owners\, but can be confusing if you are not a &quot\;numbers&quot\; person. This session will explain how to manage the chart of accounts\, how to input data\, and how to produce the reports needed to help you manage your business. Zoom information below:</span></span></span></span></span><br />\nJoin Zoom Meeting<br />\n<a href="https://us02web.zoom.us/j/83385486793">https://us02web.zoom.us/j/83385486793</a><br />\n&nbsp\;
LOCATION:
UID:e.769.5382
SEQUENCE:3
DTSTAMP:20260421T140153Z
URL:https://directory.siouxlandchamber.com/events/details/small-business-education-series-7-22-20-5382
END:VEVENT

END:VCALENDAR
