BEGIN:VCALENDAR
VERSION:2.0
PRODID:-//ChamberMaster//Event Calendar 2.0//EN
METHOD:PUBLISH
X-PUBLISHED-TTL:P3D
REFRESH-INTERVAL:P3D
CALSCALE:GREGORIAN
BEGIN:VEVENT
DTSTART:20180530T170000Z
DTEND:20180530T180000Z
X-MICROSOFT-CDO-ALLDAYEVENT:FALSE
SUMMARY:Small Business Education Series 5/30/2018
DESCRIPTION:"6 Steps to a Better Business"\n\n\n\nActionCOACH with Linda Krei and Laura Pedersen\n\nwww.actioncoach.com/lindakrei\n\n\n\nWhat you'll learn:\n\n- How to work ON your business instead of IN your business.\n\n- How to turn your advertising and marketing into an investment instead of an expense.\n- How to leverage your time to maximize efficiency and profits.\n\n- How to recruit\, motivate\, educate\, and retain exceptional employees.\n\n\nAbout ActionCOACH\n\nWe are certified Business Coaches with ActionCOACH\, the World's #1 Business Coaching Franchise (Entrepreneur Magazine\, Jan. 2004 & 2005). \n\n\n\nAs your coach\, we will be working with you in five key areas. The emphasis on each area depends on your needs\, the type of business you have\, and your goals. The key areas are:\n\n- Sales\n\n- Marketing and Advertising\n\n- Team Building and Recruitment\n\n- Systems and Business Development\n\n- Customer Service\n\n \nOur goal is to guide business owners\, such as yourself\, to spend less time working in your business and more time working on your business. If you follow our coaching steps\, you will spend less total time working\, and you will be making more money. We can guide you and put the FUN back in your business and your life. \n\n\n\nThe Small Business Education Series\, is a peer-to-peer information exchange presented by the Siouxland Chamber of Commerce. Join us each month as a local subject matter expert will share their expertise and experience on timely\, focused topics important to small business owners. Whether it's accounting\, HR\, legal\, banking & finance\, marketing\, or management the Small Business Education Series will give you the tools and knowledge you need to more effectively run your small business.\n\n\n\nNot a member? If you're a business large or small in the Siouxland area you should be! Join Now to enjoy all of the benefits only a Siouxland Chamber membership can offer.
X-ALT-DESC;FMTTYPE=text/html:<span style="font-family: arial\;"><span style="font-size: 18px\;"><em><strong>&quot\;6 Steps to a Better Business&quot\;</strong></em></span><br />\n<br />\n<span style="font-size: 14px\;"><a href="http://lindakrei.actioncoach.com/">ActionCOACH</a> with Linda Krei and Laura Pedersen<br />\n<span mso-ansi-language:="" mso-bidi-font-family:="" mso-bidi-language:="" mso-fareast-language:="" new="" style="color: rgb(36\, 27\, 214)\; mso-fareast-font-family: " times=""><a href="http://www.actioncoach.com/lindakrei"><font color="#0000ff">www.actioncoach.com/lindakrei</font></a></span></span><br />\n<br />\n<span style="font-size: 14px\;"><span style="background: white\;"><span style="color: rgb(43\, 43\, 43)\;"><span style="orphans: 2\; widows: 2\; font-variant-ligatures: normal\;">What you&rsquo\;ll learn:</span></span></span></span></span><br />\n<span style="font-family: arial\;"><span style="font-size: 14px\;"><span style="font-size: 14px\;"><span style="font-family: arial\;"><span style="color: rgb(43\, 43\, 43)\;">- How to work ON your business instead of IN your business.</span></span></span></span></span><br />\n<span style="font-size: 14px\;"><span style="font-family: arial\;"><span style="color: rgb(43\, 43\, 43)\;">- How to turn your advertising and marketing into an investment instead of an expense.</span></span></span>\n<div style="background: white\; vertical-align: baseline\;"><span style="font-size: 14px\;"><span style="font-family: arial\;"><span style="color: rgb(43\, 43\, 43)\;">- How to leverage your time to maximize efficiency and profits.</span></span></span></div>\n\n<div style="background: white\; vertical-align: baseline\;"><span style="font-size: 14px\;"><span style="font-family: arial\;"><span style="color: rgb(43\, 43\, 43)\;">- How to recruit\, motivate\, educate\, and retain exceptional&nbsp\;employees.</span></span></span></div>\n<br />\n<span style="font-family: arial\;"><span style="font-size: 14px\;"><strong><u>About ActionCOACH</u></strong><br />\n<span style="color: rgb(43\, 43\, 43)\;">We are certified Business Coaches with&nbsp\;<strong><span style="padding: 0in\; border: 1pt windowtext\; border-image: none\;"><span style="outline: 0px\; font-style: inherit\; box-sizing: inherit\;">ActionCOACH</span></span></strong>\, the World&rsquo\;s #1 Business Coaching Franchise (<em><span style="padding: 0in\; border: 1pt windowtext\; border-image: none\;"><span style="outline: 0px\; box-sizing: inherit\;">Entrepreneur Magazine</span></span></em>\, Jan. 2004 &amp\; 2005).&nbsp\;<br style="box-sizing: inherit\;" />\n<br style="box-sizing: inherit\;" />\nAs your coach\, we will be working with you in five key areas. The emphasis on each area depends on your needs\, the type of business you have\, and your goals. The key areas are:<br />\n- <span style="font-family: arial\;"><span style="font-size: 14px\;"><span style="color: rgb(43\, 43\, 43)\;">Sales<br />\n- Marketing and Advertising</span></span></span></span></span></span>\n\n<div style="background: white\; vertical-align: baseline\;"><span style="font-family: arial\;"><span style="font-size: 14px\;"><span style="color: rgb(43\, 43\, 43)\;">- Team Building and Recruitment</span></span></span></div>\n\n<div style="background: white\; vertical-align: baseline\;"><span style="font-family: arial\;"><span style="font-size: 14px\;"><span style="color: rgb(43\, 43\, 43)\;">- Systems and Business Development</span></span></span></div>\n\n<div style="background: white\; vertical-align: baseline\;"><span style="font-family: arial\;"><span style="font-size: 14px\;"><span style="color: rgb(43\, 43\, 43)\;">- Customer Service</span></span></span><br />\n&nbsp\;</div>\n<span style="font-family: arial\;"><span style="font-size: 14px\;"><span style="background: white\;"><span style="color: rgb(43\, 43\, 43)\;"><span style="orphans: 2\; widows: 2\; font-variant-ligatures: normal\;">Our&nbsp\;goal is to guide business owners\, such as yourself\, to spend less time working&nbsp\;</span><strong><span style="padding: 0in\; border: 1pt windowtext\; border-image: none\;"><span style="outline: 0px\; box-sizing: inherit\; orphans: 2\; widows: 2\; font-variant-ligatures: normal\;">in</span></span></strong><span style="orphans: 2\; widows: 2\; font-variant-ligatures: normal\;">&nbsp\;your business and more time working&nbsp\;</span><strong><span style="padding: 0in\; border: 1pt windowtext\; border-image: none\;"><span style="outline: 0px\; box-sizing: inherit\; orphans: 2\; widows: 2\; font-variant-ligatures: normal\;">on</span></span></strong><span style="orphans: 2\; widows: 2\; font-variant-ligatures: normal\;">&nbsp\;your business. If you&nbsp\;follow our coaching steps\, you will spend less total time working\, and you will be making more money. We can guide you and put the FUN back in your business and your life.&nbsp\;</span></span></span></span><br />\n<br />\n<span style="color: rgb(68\, 68\, 68)\;">The&nbsp\;<span style="border-radius: 0px\; border: currentColor\; border-image: none\; right: auto\; bottom: auto\; overflow: visible\; visibility: inherit\; z-index: auto\; max-height: none\; max-width: none\; content: normal\; box-sizing: content-box\; empty-cells: show\; opacity: 1\; box-shadow: none\; resize: none\; outline-offset: 0px\;"><b>Small Business Education&nbsp\;Series</b></span>\, is a peer-to-peer information exchange presented by the&nbsp\;Siouxland&nbsp\;Chamber of Commerce. Join us each month as a local subject matter expert will share their expertise and experience on timely\, focused topics important to small business owners. Whether it&#39\;s accounting\, HR\, legal\, banking &amp\; finance\, marketing\, or management the Small Business Education Series will give you the tools and knowledge you need to more effectively run your small <span style="font-size: 12px\;">business.</span></span><br />\n<br />\n<span style="font-size: 12px\;"><strong><i><font color="#000000">Not a member?</font></i></strong><font color="#000000"> If you&#39\;re a business large or small in the&nbsp\;Siouxland&nbsp\;area you should be!&nbsp\;</font><a href="http://directory.siouxlandchamber.com/member/newmemberapp/"><font color="#0000ff">Join Now</font></a><font color="#000000">&nbsp\;to enjoy&nbsp\;all of the benefits only a&nbsp\;Siouxland&nbsp\;Chamber membership can offer.</font></span></span>\n\n<p>&nbsp\;</p>\n
LOCATION:Siouxland Chamber of Commerce 101 Pierce Street Sioux City\, IA
UID:e.769.4687
SEQUENCE:3
DTSTAMP:20260420T145938Z
URL:https://directory.siouxlandchamber.com/events/details/small-business-education-series-5-30-2018-4687
END:VEVENT

END:VCALENDAR
