BEGIN:VCALENDAR
VERSION:2.0
PRODID:-//ChamberMaster//Event Calendar 2.0//EN
METHOD:PUBLISH
X-PUBLISHED-TTL:P3D
REFRESH-INTERVAL:P3D
CALSCALE:GREGORIAN
BEGIN:VEVENT
DTSTART:20180406T163000Z
DTEND:20180406T180000Z
X-MICROSOFT-CDO-ALLDAYEVENT:FALSE
SUMMARY:Small Business Education Series 4/6/18 "Building a High Performance Sales Process"
DESCRIPTION:Building a High Performance Sales Process!\n\nSandler Sales Training\n\nwww.karlschaphorst.sandler.com\n\n\n\nJoin us for a sobering discussion about the incredible cost of embedded sales mediocrity and the impact it can have on your bottom line. This no-holds-barred session will challenge your core beliefs about sales performance. Designed for Owners\, Presidents\, CEO's\, and Director of Sales. Learn how to change the "behavior dynamics" of your company and build a high performing sales culture that will get results! For more information click here.\n\n\n\nThe Small Business Education Series\, is a peer-to-peer information exchange presented by the Siouxland Chamber of Commerce. Join us each month as a local subject matter expert will share their expertise and experience on timely\, focused topics important to small business owners. Whether it's accounting\, HR\, legal\, banking & finance\, marketing\, or management the Small Business Education Series will give you the tools and knowledge you need to more effectively run your small business.\n\n\n\nNot a member? If you're a business large or small in the Siouxland area you should be! Join Now to enjoy all of the benefits only a Siouxland Chamber membership can offer.
X-ALT-DESC;FMTTYPE=text/html:<br />\n<span style="font-size: 18px\;"><strong><span style="color: rgb(255\, 0\, 0)\;"><em>Building a High Performance Sales Process!</em></span><br />\nSandler Sales&nbsp\;Training<br />\n<u><a href="http://www.karlschaphorst.sandler.com/Sioux-City-Event"><span style="color: rgb(0\, 0\, 255)\;">www.karlschaphorst.sandler.com</span></a></u><br />\n<br />\nJoin us for a sobering discussion about the incredible cost of embedded sales mediocrity and the impact it can have on your bottom line. This no-holds-barred session will challenge your core beliefs about sales performance. Designed for Owners\, Presidents\, CEO&#39\;s\, and Director of Sales. Learn how to change the &quot\;behavior dynamics&quot\; of your&nbsp\;company and build a high performing sales culture that will get results! For more information click <u><a href="https://chambermaster.blob.core.windows.net/userfiles/UserFiles/chambers/769/File/SandlerFlyer.doc"><span style="color: rgb(255\, 0\, 0)\;">here</span></a></u>.</strong></span><br />\n<br />\n<span style="font-size: 12px\;"><span style="font-family: arial\;"><span style="color: rgb(68\, 68\, 68)\;">The&nbsp\;<span style="border-radius: 0px\; border: currentColor\; border-image: none\; right: auto\; bottom: auto\; overflow: visible\; visibility: inherit\; z-index: auto\; max-height: none\; max-width: none\; content: normal\; box-sizing: content-box\; empty-cells: show\; opacity: 1\; box-shadow: none\; resize: none\; outline-offset: 0px\;"><b>Small Business Education&nbsp\;Series</b></span>\, is a peer-to-peer information exchange presented by the&nbsp\;Siouxland&nbsp\;Chamber of Commerce. Join us each month as a local subject matter expert will share their expertise and experience on timely\, focused topics important to small business owners. Whether it&#39\;s accounting\, HR\, legal\, banking &amp\; finance\, marketing\, or management the Small Business Education Series will give you the tools and knowledge you need to more effectively run your small business.</span><br />\n<br />\n<strong><i><font color="#000000">Not a member?</font></i></strong><font color="#000000"> If you&#39\;re a business large or small in the&nbsp\;Siouxland&nbsp\;area you should be!&nbsp\;</font><a href="http://directory.siouxlandchamber.com/member/newmemberapp/"><font color="#0000ff">Join Now</font></a><font color="#000000">&nbsp\;to enjoy&nbsp\;all of the benefits only a&nbsp\;Siouxland&nbsp\;Chamber membership can offer.</font></span></span>\n<p>&nbsp\;</p>\n
LOCATION:Siouxland Chamber of Commerce 101 Pierce Street Sioux City\, IA
UID:e.769.4673
SEQUENCE:3
DTSTAMP:20260420T133455Z
URL:https://directory.siouxlandchamber.com/events/details/small-business-education-series-4-6-18-building-a-high-performance-sales-process-4673
END:VEVENT

END:VCALENDAR
