BEGIN:VCALENDAR
VERSION:2.0
PRODID:-//ChamberMaster//Event Calendar 2.0//EN
METHOD:PUBLISH
X-PUBLISHED-TTL:P3D
REFRESH-INTERVAL:P3D
CALSCALE:GREGORIAN
BEGIN:VEVENT
DTSTART:20160413T123000Z
DTEND:20160413T133000Z
X-MICROSOFT-CDO-ALLDAYEVENT:FALSE
SUMMARY:Small Business Education Series 4/13/16
DESCRIPTION:Employee Health & Wellness Programs\n\nTasha Reynolds\n\nProfile by Sanford\n\n\n\n\n\nCut costs and improve employee morale\, productivity\, and job satisfaction through an employee health & wellness program.\n\n \n\nStudies have shown that a healthier workforce is a more productive and stable workforce\, and employers large and small are taking note. Large companies like Johnson & Johnson have seen savings of $250 million over a decade just through improvements in workforce health alone\, and smaller companies are following suit. Tasha Reynolds from Profile by Sanford will talk about how health and wellness plans are deployed\, their costs and benefits\, and their impact on your workforce. If you're evaluating a health & wellness plan for your company\, this is the session for you!\n\n\n\nThe Small Business Education Series\, is a peer-to-peer information exchange presented by the Siouxland Chamber of Commerce. Join us each month as a local subject matter expert will share their expertise and experience on timely\, focused topics important to small business owners. Whether it's accounting\, HR\, legal\, banking & finance\, marketing\, or management the Small Business Education Series will give you the tools and knowledge you need to more effectively run your small business.\n\n\n\nNot a member? If you're a business large or small in the Siouxland area you should be! Join Now to enjoy all of the benefits only a Siouxland Chamber membership can offer.\n\n\n\nThe Small Business Education Series is a free service for members of the Siouxland Chamber of Commerce.
X-ALT-DESC;FMTTYPE=text/html:<span style="font-size:14px\;"><span style="font-size:18px\;"><b>Employee Health &amp\; Wellness Programs</b></span></span><br />\n<font color="#444444"><span style="line-height: 18.2px\;">Tasha Reynolds</span></font><br />\nProfile by Sanford<br />\n<br />\n<br />\n<strong><em><span style="font-size: 10.5pt\; font-family: Arial\, sans-serif\;">Cut costs and improve employee morale\, productivity\, and job satisfaction through an employee health &amp\; wellness program.</span></em></strong><br />\n<span style="font-size:14px\;">&nbsp\;</span><br />\n<font face="arial\, sans-serif"><span style="font-size: 14px\; line-height: 22.4px\;">Studies have shown that a healthier workforce is a more productive and stable workforce\, and employers large and small are taking note. Large companies like Johnson &amp\; Johnson have seen savings of $250 million over a decade just through improvements in workforce health alone\, and smaller companies are following suit. Tasha Reynolds from Profile by Sanford will talk about how health and wellness plans are deployed\, their costs and benefits\, and their impact on your workforce. If you&#39\;re evaluating a health &amp\; wellness plan for your company\, this is the session for you!</span></font><br />\n<br />\n<span style="color: rgb(68\, 68\, 68)\; line-height: 18.2px\; font-size: 14px\;">The&nbsp\;</span><span style="margin: 0px\; padding: 0px\; border-radius: 0px\; border: currentcolor\; border-image-slice: 100% 1 0\; left: auto\; top: auto\; width: auto\; height: auto\; right: auto\; bottom: auto\; color: rgb(68\, 68\, 68)\; line-height: 18.2px\; overflow: visible\; clear: none\; font-size: 14px\; font-weight: 700\; vertical-align: baseline\; visibility: inherit\; border-collapse: separate\; position: static\; z-index: auto\; table-layout: auto\; direction: inherit\; max-height: none\; max-width: none\; content: normal\; box-sizing: content-box\; empty-cells: show\; opacity: 1\; box-shadow: none\; resize: none\; outline-offset: 0px\; background-image: none\;">Small Business Education&nbsp\;Series</span><span style="color: rgb(68\, 68\, 68)\; line-height: 18.2px\; font-size: 14px\;">\, is a peer-to-peer information exchange presented by the&nbsp\;Siouxland&nbsp\;Chamber of Commerce. Join us each month as a local subject matter expert will share their expertise and experience on timely\, focused topics important to small business owners. Whether it&#39\;s accounting\, HR\, legal\, banking &amp\; finance\, marketing\, or management the Small Business Education Series will give you the tools and knowledge you need to more effectively run your small business.</span><br />\n<br />\n<span style="font-size:14px\;"><span style="line-height: 20.7999992370605px\;"><em><strong>Not a member?</strong></em> If you&#39\;re a business large or small in the&nbsp\;</span>Siouxland<span style="line-height: 20.7999992370605px\;">&nbsp\;area you should be!&nbsp\;</span><a href="http://directory.siouxlandchamber.com/member/newmemberapp/" style="line-height: 20.7999992370605px\;"><span style="color: rgb(0\, 0\, 255)\;">Join Now</span></a><span style="line-height: 20.7999992370605px\;">&nbsp\;to enjoy&nbsp\;all of the benefits only a&nbsp\;</span>Siouxland<span style="line-height: 20.7999992370605px\;">&nbsp\;Chamber membership can offer.</span></span><br />\n<br />\n<em style="margin: 0px\; padding: 0px\; border-radius: 0px\; border: currentColor\; border-image: 100% 1 0\; left: auto\; top: auto\; width: auto\; height: auto\; right: auto\; bottom: auto\; color: rgb(68\, 68\, 68)\; line-height: 18.2px\; overflow: visible\; clear: none\; font-family: Arial\, Helvetica\, sans-serif\; font-size: 14px\; vertical-align: baseline\; float: none\; display: inline\; visibility: inherit\; border-collapse: separate\; position: static\; z-index: auto\; table-layout: auto\; direction: inherit\; -ms-word-break: inherit\; -ms-text-justify: inherit\; -ms-word-wrap: inherit\; -ms-text-overflow: clip\; max-height: none\; max-width: none\; content: normal\; box-sizing: content-box\; empty-cells: show\; opacity: 1\; box-shadow: none\; background-image: none\; resize: none\; outline-offset: 0px\;">The Small Business Education Series is a free service for members of the Siouxland Chamber of Commerce.</em>
LOCATION:Siouxland Chamber of Commerce 101 Pierce Street Sioux City\, IA
UID:e.769.3252
SEQUENCE:3
DTSTAMP:20260421T185534Z
URL:https://directory.siouxlandchamber.com/events/details/small-business-education-series-4-13-16-04-13-2016-3252
END:VEVENT

END:VCALENDAR
