BEGIN:VCALENDAR
VERSION:2.0
PRODID:-//ChamberMaster//Event Calendar 2.0//EN
METHOD:PUBLISH
X-PUBLISHED-TTL:P3D
REFRESH-INTERVAL:P3D
CALSCALE:GREGORIAN
BEGIN:VEVENT
DTSTART:20180328T123000Z
DTEND:20180328T133000Z
X-MICROSOFT-CDO-ALLDAYEVENT:FALSE
SUMMARY:Small Business Education Series 3/28/18
DESCRIPTION:S.A.V.E. Training\n\nwith\n\nChad Sheehan\, Owner\n\nSheehan Strategic Solutions\n\nwww.sheehansolutions.com\n\n\n\nChad uses his expertise to provide training/consulting to civilians in the area of surviving violence with an emphasis on surviving the threat posed by workplace/school violence and today's active killer. He will provide key points of his S.A.V.E. training.\n\nAbout Chad\n\nChad is a 23 year veteran of Law Enforcement.  In August 2016 he retired from the Sioux City\, IA police department to devote his full time to the S.A.V.E. Yourself program. At the time of his retirement he was assigned to patrol\, the hostage negotiation unit\, field training officer\, Honor Guard member and Critical Incident Stress Management team. He developed the "S.A.V.E. Yourself" program and is a certified instructor in Rapid Response to active shooter\, Conflict Resolution\, Tactical Communication and DARE. Chad was also previously assigned as the police department's school resource officer at a Sioux City high school with over 1\,200 students and 200 staff members. \n\n\n\nPlease register as seating is limited.\n\n\n\nThe Small Business Education Series\, is a peer-to-peer information exchange presented by the Siouxland Chamber of Commerce. Join us each month as a local subject matter expert will share their expertise and experience on timely\, focused topics important to small business owners. Whether it's accounting\, HR\, legal\, banking & finance\, marketing\, or management the Small Business Education Series will give you the tools and knowledge you need to more effectively run your small business.\n\n\n\nNot a member? If you're a business large or small in the Siouxland area you should be! Join Now to enjoy all of the benefits only a Siouxland Chamber membership can offer.
X-ALT-DESC;FMTTYPE=text/html:<br />\n<span style="font-size: 16px\;"><strong>S.A.V.E. Training</strong></span><br />\nwith<br />\n<strong>Chad Sheehan\, Owner</strong><br />\nSheehan Strategic Solutions<br />\n<u><a href="http://www.sheehansolutions.com/chad-sheehan.html"><span style="color: rgb(0\, 0\, 255)\;">www.sheehansolutions.com</span></a></u><br />\n<br />\nChad uses his&nbsp\;expertise to provide training/consulting to civilians in the area of surviving violence with an emphasis on surviving the threat posed by workplace/school violence and today&#39\;s active killer. He will provide key points of his S.A.V.E. training.<br />\n<strong>About Chad</strong><br />\nChad is a 23&nbsp\;year veteran of Law Enforcement.&nbsp\; In August 2016 he&nbsp\;retired from&nbsp\;the Sioux City\, IA police department to devote his full time to the S.A.V.E. Yourself&nbsp\;program. At the time of his retirement he was assigned to patrol\, the hostage negotiation unit\, field training officer\, Honor Guard member and Critical Incident Stress Management team. He developed the &quot\;S.A.V.E. Yourself&quot\; program and is a certified instructor in&nbsp\;Rapid Response to active shooter\, Conflict Resolution\, Tactical Communication and DARE. Chad was also previously assigned as the police department&#39\;s school resource officer at a Sioux City high school with over 1\,200 students and 200 staff members.&nbsp\;<br />\n<br />\n<span style="color: rgb(255\, 0\, 0)\;"><em><strong>Please&nbsp\;register as seating is limited.</strong></em></span><br />\n<br />\n<span style="color: rgb(68\, 68\, 68)\; font-family: &quot\;Arial&quot\;\,sans-serif\; font-size: 9pt\; mso-fareast-font-family: Calibri\; mso-fareast-theme-font: minor-latin\; mso-ansi-language: EN-US\; mso-fareast-language: EN-US\; mso-bidi-language: AR-SA\;">The&nbsp\;<span style="border-radius: 0px\; border: currentColor\; border-image: none\; right: auto\; bottom: auto\; overflow: visible\; visibility: inherit\; z-index: auto\; max-height: none\; max-width: none\; content: normal\; box-sizing: content-box\; empty-cells: show\; opacity: 1\; box-shadow: none\; resize: none\; outline-offset: 0px\;"><b>Small Business Education&nbsp\;Series</b></span>\, is a peer-to-peer information exchange presented by the&nbsp\;Siouxland&nbsp\;Chamber of Commerce. Join us each month as a local subject matter expert will share their expertise and experience on timely\, focused topics important to small business owners. Whether it&#39\;s accounting\, HR\, legal\, banking &amp\; finance\, marketing\, or management the Small Business Education Series will give you the tools and knowledge you need to more effectively run your small <span style="font-size: 12px\;">business.</span></span><br />\n<br />\n<span style="font-size: 12px\;"><strong><i><span style="font-family: &quot\;Arial&quot\;\,sans-serif\; mso-fareast-font-family: Calibri\; mso-fareast-theme-font: minor-latin\; mso-ansi-language: EN-US\; mso-fareast-language: EN-US\; mso-bidi-language: AR-SA\;"><font color="#000000">Not a member?</font></span></i></strong><span style="font-family: &quot\;Arial&quot\;\,sans-serif\; mso-fareast-font-family: Calibri\; mso-fareast-theme-font: minor-latin\; mso-ansi-language: EN-US\; mso-fareast-language: EN-US\; mso-bidi-language: AR-SA\;"><font color="#000000"> If you&#39\;re a business large or small in the&nbsp\;Siouxland&nbsp\;area you should be!&nbsp\;</font><a href="http://directory.siouxlandchamber.com/member/newmemberapp/"><font color="#0000ff">Join Now</font></a><font color="#000000">&nbsp\;to enjoy&nbsp\;all of the benefits only a&nbsp\;Siouxland&nbsp\;Chamber membership can offer.</font></span></span>\n<p>&nbsp\;</p>\n
LOCATION:Siouxland Chamber of Commerce 101 Pierce Street Sioux City\, IA
UID:e.769.4662
SEQUENCE:3
DTSTAMP:20260420T120036Z
URL:https://directory.siouxlandchamber.com/events/details/small-business-education-series-3-28-18-4662
END:VEVENT

END:VCALENDAR
