BEGIN:VCALENDAR
VERSION:2.0
PRODID:-//ChamberMaster//Event Calendar 2.0//EN
METHOD:PUBLISH
X-PUBLISHED-TTL:P3D
REFRESH-INTERVAL:P3D
CALSCALE:GREGORIAN
BEGIN:VEVENT
DTSTART:20160302T133000Z
DTEND:20160302T143000Z
X-MICROSOFT-CDO-ALLDAYEVENT:FALSE
SUMMARY:Small Business Education Series 3/2/16
DESCRIPTION:Business Tax Season - New Forms & Filings\n\nBrandi Beller\n\nH & R Block\n\n\n\n\n\nThere are significant changes to business tax filings for 2016. Learn what's changed to stay ahead of curve.\n\n \n\nBrandi Beller and her team from H & R Block will discuss the major changes and revisions to 2016 business tax filings. Topics will include the new health insurance forms 1095-A\,B\, and C\; new changes to the 1099 series and of course W-2s. Stay ahead of the curve this tax season and join us!\n\n\n\nThe Small Business Education Series\, is a peer-to-peer information exchange presented by the Siouxland Chamber of Commerce. Join us each month as a local subject matter expert will share their expertise and experience on timely\, focused topics important to small business owners. Whether it's accounting\, HR\, legal\, banking & finance\, marketing\, or management the Small Business Education Series will give you the tools and knowledge you need to more effectively run your small business.\n\n\n\nNot a member? If you're a business large or small in the Siouxland area you should be! Join Now to enjoy all of the benefits only a Siouxland Chamber membership can offer.\n\n\n\nThe Small Business Education Series is a free service for members of the Siouxland Chamber of Commerce.
X-ALT-DESC;FMTTYPE=text/html:<span style="font-size:14px\;"><span style="font-size:18px\;"><b>Business Tax Season - New Forms &amp\; Filings</b></span><br />\n<font color="#444444"><span style="line-height: 18.2px\;">Brandi Beller</span></font></span><br />\nH&nbsp\;&amp\; R Block<br />\n<br />\n<br />\n<strong><em><span style="font-size: 10.5pt\; font-family: Arial\, sans-serif\;">There are significant&nbsp\;changes to business tax filings for 2016. Learn what&#39\;s changed to stay ahead of curve.</span></em></strong><br />\n<span style="font-size:14px\;">&nbsp\;</span><br />\n<font face="arial\, sans-serif"><span style="font-size: 14px\; line-height: 22.4px\;">Brandi Beller and her team from H &amp\; R Block will discuss the major changes and revisions to 2016 business tax filings. Topics will include the new health insurance forms 1095-A\,B\, and C\; new changes to the 1099 series and of course W-2s. Stay ahead of the curve this tax season and join us!</span></font><br />\n<br />\n<span style="color: rgb(68\, 68\, 68)\; line-height: 18.2px\; font-size: 14px\;">The&nbsp\;</span><span style="margin: 0px\; padding: 0px\; border-radius: 0px\; border: currentcolor\; border-image-slice: 100% 1 0\; left: auto\; top: auto\; width: auto\; height: auto\; right: auto\; bottom: auto\; color: rgb(68\, 68\, 68)\; line-height: 18.2px\; overflow: visible\; clear: none\; font-size: 14px\; font-weight: 700\; vertical-align: baseline\; visibility: inherit\; border-collapse: separate\; position: static\; z-index: auto\; table-layout: auto\; direction: inherit\; max-height: none\; max-width: none\; content: normal\; box-sizing: content-box\; empty-cells: show\; opacity: 1\; box-shadow: none\; resize: none\; outline-offset: 0px\; background-image: none\;">Small Business Education&nbsp\;Series</span><span style="color: rgb(68\, 68\, 68)\; line-height: 18.2px\; font-size: 14px\;">\, is a peer-to-peer information exchange presented by the&nbsp\;Siouxland&nbsp\;Chamber of Commerce. Join us each month as a local subject matter expert will share their expertise and experience on timely\, focused topics important to small business owners. Whether it&#39\;s accounting\, HR\, legal\, banking &amp\; finance\, marketing\, or management the Small Business Education Series will give you the tools and knowledge you need to more effectively run your small business.</span><br />\n<br />\n<span style="font-size:14px\;"><span style="line-height: 20.7999992370605px\;"><em><strong>Not a member?</strong></em> If you&#39\;re a business large or small in the&nbsp\;</span>Siouxland<span style="line-height: 20.7999992370605px\;">&nbsp\;area you should be!&nbsp\;</span><a href="http://directory.siouxlandchamber.com/member/newmemberapp/" style="line-height: 20.7999992370605px\;"><span style="color: rgb(0\, 0\, 255)\;">Join Now</span></a><span style="line-height: 20.7999992370605px\;">&nbsp\;to enjoy&nbsp\;all of the benefits only a&nbsp\;</span>Siouxland<span style="line-height: 20.7999992370605px\;">&nbsp\;Chamber membership can offer.</span></span><br />\n<br />\n<em style="margin: 0px\; padding: 0px\; border-radius: 0px\; border: currentColor\; border-image: 100% 1 0\; left: auto\; top: auto\; width: auto\; height: auto\; right: auto\; bottom: auto\; color: rgb(68\, 68\, 68)\; line-height: 18.2px\; overflow: visible\; clear: none\; font-family: Arial\, Helvetica\, sans-serif\; font-size: 14px\; vertical-align: baseline\; float: none\; display: inline\; visibility: inherit\; border-collapse: separate\; position: static\; z-index: auto\; table-layout: auto\; direction: inherit\; -ms-word-break: inherit\; -ms-text-justify: inherit\; -ms-word-wrap: inherit\; -ms-text-overflow: clip\; max-height: none\; max-width: none\; content: normal\; box-sizing: content-box\; empty-cells: show\; opacity: 1\; box-shadow: none\; background-image: none\; resize: none\; outline-offset: 0px\;">The Small Business Education Series is a free service for members of the Siouxland Chamber of Commerce.</em>
LOCATION:Siouxland Chamber of Commerce 101 Pierce Street Sioux City\, IA
UID:e.769.3235
SEQUENCE:3
DTSTAMP:20260421T185534Z
URL:https://directory.siouxlandchamber.com/events/details/small-business-education-series-3-2-16-03-02-2016-3235
END:VEVENT

END:VCALENDAR
