BEGIN:VCALENDAR
VERSION:2.0
PRODID:-//ChamberMaster//Event Calendar 2.0//EN
METHOD:PUBLISH
X-PUBLISHED-TTL:P3D
REFRESH-INTERVAL:P3D
CALSCALE:GREGORIAN
BEGIN:VEVENT
DTSTART:20150205T133000Z
DTEND:20150205T143000Z
X-MICROSOFT-CDO-ALLDAYEVENT:FALSE
SUMMARY:Small Business Education Series 2/5/15
DESCRIPTION:Business Technology Trends from CES 2015\n\nTony Olson\, D2 Worldwide\n\n\n\nWhat are the latest technology trends your business can use?\n\n \n\nYou've seen the International CES  (Consumer Electronics Show) in the news: the latest technology trends\, gadgets\, and innovations from around the world on display. Local Siouxland technology firm D2 Worldwide sent a team to CES 2015 to seek out the latest business tech innovations\, and now they want to share what they learned with other Chamber members. Are you a contractor or interior designer interested in home/facility automation? Are you a manufacturer exploring 3-D printing for production or prototyping? Do you want to improve operations and efficiency with technology? This is the session for you!\n\n \n\n\n\nThe Small Business Education Series\, is a peer-to-peer information exchange presented by the Siouxland Chamber of Commerce. Join us each month as a local subject matter expert will share their expertise and experience on timely\, focused topics important to small business owners. Whether it's accounting\, HR\, legal\, banking & finance\, marketing\, or management the Small Business Education Series will give you the tools and knowledge you need to more effectively run your small business.\n\n\n\nNot a member? If you're a business large or small in the Siouxland area you should be! Join Now to enjoy all of the benefits only a Siouxland Chamber membership can offer.\n\n\n\nThe Small Business Education Series is a free service for members of the Siouxland Chamber of Commerce.
X-ALT-DESC;FMTTYPE=text/html:<span style="font-family:arial\;"><span style="font-size:14px\;">Business Technology Trends from CES 2015<br />\n<font color="#444444"><span style="line-height: 18.2000007629395px\;">Tony Olson\, D2 Worldwide</span></font><br />\n<br />\n<span style="font-style:italic\;font-weight:bold\;language:en-US\;">What are the latest technology trends </span><span style="font-style:italic\;text-decoration:underline\;text-underline:single\;font-weight:bold\;language:en-US\;">your </span><span style="font-style:italic\;font-weight:bold\;language:en-US\;">business can use?</span><br />\n&nbsp\;<br />\nYou&rsquo\;ve seen the International CES<sup>&copy\;</sup> (Consumer Electronics Show) in the news: the latest technology trends\, gadgets\, and innovations from around the world on display. Local Siouxland technology firm D2 Worldwide sent a team to CES 2015 to seek out the latest business tech innovations\, and now they want to share what they learned with other Chamber members. Are you a contractor or interior designer interested in home/facility automation? Are you a manufacturer exploring 3-D printing for production or prototyping? Do you want to improve operations and efficiency with technology? This is the session for you!</span></span><br />\n&nbsp\;<br />\n<br />\n<span style="color: rgb(68\, 68\, 68)\; line-height: 18.2px\; font-family: arial\; font-size: 14px\;">The&nbsp\;</span><span style="margin: 0px\; padding: 0px\; border-radius: 0px\; border: currentColor\; border-image: 100% 1 0\; left: auto\; top: auto\; width: auto\; height: auto\; right: auto\; bottom: auto\; color: rgb(68\, 68\, 68)\; line-height: 18.2px\; overflow: visible\; clear: none\; font-family: arial\; font-size: 14px\; font-weight: 700\; vertical-align: baseline\; visibility: inherit\; border-collapse: separate\; position: static\; z-index: auto\; table-layout: auto\; direction: inherit\; max-height: none\; max-width: none\; content: normal\; box-sizing: content-box\; empty-cells: show\; opacity: 1\; box-shadow: none\; background-image: none\; resize: none\; outline-offset: 0px\;">Small Business Education&nbsp\;Series</span><span style="color: rgb(68\, 68\, 68)\; line-height: 18.2px\; font-family: arial\; font-size: 14px\;">\, is a peer-to-peer information exchange presented by the&nbsp\;Siouxland&nbsp\;Chamber of Commerce. Join us each month as a local subject matter expert will share their expertise and experience on timely\, focused topics important to small business owners. Whether it&#39\;s accounting\, HR\, legal\, banking &amp\; finance\, marketing\, or management the Small Business Education Series will give you the tools and knowledge you need to more effectively run your small business.</span><br />\n<br />\n<span style="font-family:arial\;"><span style="font-size:14px\;"><span style="line-height: 20.7999992370605px\;">Not a member? If you&#39\;re a business large or small in the&nbsp\;</span>Siouxland<span style="line-height: 20.7999992370605px\;">&nbsp\;area you should be!&nbsp\;</span><a href="http://directory.siouxlandchamber.com/member/newmemberapp/" style="line-height: 20.7999992370605px\;"><span style="color: rgb(0\, 0\, 255)\;">Join Now</span></a><span style="line-height: 20.7999992370605px\;">&nbsp\;to enjoy&nbsp\;all of the benefits only a&nbsp\;</span>Siouxland<span style="line-height: 20.7999992370605px\;">&nbsp\;Chamber membership can offer.</span></span></span><br />\n<br />\n<span style="font-family: arial\;"><em style="margin: 0px\; padding: 0px\; border-radius: 0px\; border: currentColor\; border-image: 100% 1 0\; left: auto\; top: auto\; width: auto\; height: auto\; right: auto\; bottom: auto\; color: rgb(68\, 68\, 68)\; line-height: 18.2px\; overflow: visible\; clear: none\; font-family: Arial\, Helvetica\, sans-serif\; font-size: 14px\; vertical-align: baseline\; float: none\; display: inline\; visibility: inherit\; border-collapse: separate\; position: static\; z-index: auto\; table-layout: auto\; direction: inherit\; -ms-word-break: inherit\; -ms-text-justify: inherit\; -ms-word-wrap: inherit\; -ms-text-overflow: clip\; max-height: none\; max-width: none\; content: normal\; box-sizing: content-box\; empty-cells: show\; opacity: 1\; box-shadow: none\; background-image: none\; resize: none\; outline-offset: 0px\;">The Small Business Education Series is a free service for members of the Siouxland Chamber of Commerce.</em></span>
LOCATION:Siouxland Chamber of Commerce 101 Pierce Street Sioux City\, IA
UID:e.769.2085
SEQUENCE:3
DTSTAMP:20260421T231250Z
URL:https://directory.siouxlandchamber.com/events/details/small-business-education-series-2-5-15-02-05-2015-2085
END:VEVENT

END:VCALENDAR
