BEGIN:VCALENDAR
VERSION:2.0
PRODID:-//ChamberMaster//Event Calendar 2.0//EN
METHOD:PUBLISH
X-PUBLISHED-TTL:P3D
REFRESH-INTERVAL:P3D
CALSCALE:GREGORIAN
BEGIN:VEVENT
DTSTART:20180220T180000Z
DTEND:20180220T190000Z
X-MICROSOFT-CDO-ALLDAYEVENT:FALSE
SUMMARY:Small Business Education Series 2/20/18
DESCRIPTION:The Importance of Establishing Your Brand\n\n\n\nwith\n\n\n\nVaughn Donahue\, Owner\n\nDestination Graphic\n\nwww.destinationgraphic.com \n\n\n\nWe're pleased to offer this edition of the the Small Business Education Series in conjunction with Entrepalooza!\n\n\n\nStarting a new small business involves a lot of time and effort\, but once you're up and running you need your potential customers to know who you are\, what you do\, and why you do it. Even the most basic of branding efforts can go a long way to establish growth and success early on. Graphic designer Vaughn Donahue will discuss what goes into a branding process\, why it's so important at the beginning\, and how it can impact your first few years in business.\n\n\n\nAbout Vaughn\n\nVaughn Donahue is the owner of Destination Graphic\, a graphic and web design company based in Orange City. Vaughn serves clients nationwide and around Siouxland with branding design\, print layout\, promotional design and web development. Originally from the state of Maine and a graduate of Northwestern College\, Vaughn encourages his clients to focus on good design aesthetics and creative marketing to broaden their customer base and establish their visual identity in the eyes of the community.\n\n\n\nThe Small Business Education Series\, is a peer-to-peer information exchange presented by the Siouxland Chamber of Commerce. Join us each month as a local subject matter expert will share their expertise and experience on timely\, focused topics important to small business owners. Whether it's accounting\, HR\, legal\, banking & finance\, marketing\, or management the Small Business Education Series will give you the tools and knowledge you need to more effectively run your small business.\n\n\n\nNot a member? If you're a business large or small in the Siouxland area you should be! Join Now to enjoy all of the benefits only a Siouxland Chamber membership can offer.\n\n\n\nThe Small Business Education Series is a free service for members of the Siouxland Chamber of Commerce.
X-ALT-DESC;FMTTYPE=text/html:<p><span style="font-size: 14px\;"><b>The Importance of Establishing Your Brand</b></span><br />\n<br />\nwith<br />\n<br />\n<span style="font-size: 14px\;"><font color="#444444"><b>Vaughn Donahue\, Owner</b></font></span><br />\nDestination Graphic<br />\n<a href="http://www.destinationgraphic.com"><span style="color: rgb(0\, 0\, 255)\;">www.destinationgraphic.com</span></a>&nbsp\;<br />\n<br />\n<span style="font-size: 9.5pt\;"><em>We&#39\;re pleased to offer this edition of the the Small Business Education Series in conjunction with Entrepalooza!</em></span><br />\n<br />\nStarting a new small business involves a lot of time and effort\, but once you&rsquo\;re up and running you need your potential customers to know who you are\, what you do\, and why you do it. Even the most basic of branding efforts can go a long way to establish growth and success early on. Graphic designer Vaughn Donahue will discuss what goes into a branding process\, why it&rsquo\;s so important at the beginning\, and how it can impact your first few years in business.<br />\n<br />\n<strong>About Vaughn</strong><br />\nVaughn Donahue is the owner of Destination Graphic\, a graphic and web design company based in Orange City. Vaughn serves clients nationwide and around Siouxland with branding design\, print layout\, promotional design and web development. Originally from the state of Maine and a graduate of Northwestern College\, Vaughn encourages his clients to focus on good design aesthetics and creative marketing to broaden their customer base and establish their visual identity in the eyes of the community.</p>\n\n<p><br />\n<span style="font-size: 12px\;"><span style="color: rgb(68\, 68\, 68)\; line-height: 18.2px\;">The&nbsp\;</span><span style="margin: 0px\; padding: 0px\; border-radius: 0px\; border: currentColor\; border-image: none\; left: auto\; top: auto\; width: auto\; height: auto\; right: auto\; bottom: auto\; color: rgb(68\, 68\, 68)\; line-height: 18.2px\; overflow: visible\; clear: none\; font-weight: 700\; vertical-align: baseline\; visibility: inherit\; border-collapse: separate\; position: static\; z-index: auto\; table-layout: auto\; direction: inherit\; max-height: none\; max-width: none\; content: normal\; box-sizing: content-box\; empty-cells: show\; opacity: 1\; box-shadow: none\; background-image: none\; resize: none\; outline-offset: 0px\;">Small Business Education&nbsp\;Series</span><span style="color: rgb(68\, 68\, 68)\; line-height: 18.2px\;">\, is a peer-to-peer information exchange presented by the&nbsp\;Siouxland&nbsp\;Chamber of Commerce. Join us each month as a local subject matter expert will share their expertise and experience on timely\, focused topics important to small business owners. Whether it&#39\;s accounting\, HR\, legal\, banking &amp\; finance\, marketing\, or management the Small Business Education Series will give you the tools and knowledge you need to more effectively run your small business.</span></span><br />\n<br />\n<span style="font-size: 14px\;"><span style="line-height: 20.79px\;"><em><strong>Not a member?</strong></em> If you&#39\;re a business large or small in the&nbsp\;</span>Siouxland<span style="line-height: 20.79px\;">&nbsp\;area you should be!&nbsp\;</span><a href="http://directory.siouxlandchamber.com/member/newmemberapp/" style="line-height: 20.79px\;"><span style="color: rgb(0\, 0\, 255)\;">Join Now</span></a><span style="line-height: 20.79px\;">&nbsp\;to enjoy&nbsp\;all of the benefits only a&nbsp\;</span>Siouxland<span style="line-height: 20.79px\;">&nbsp\;Chamber membership can offer.</span></span><br />\n<br />\n<em style="margin: 0px\; padding: 0px\; border-radius: 0px\; border: currentColor\; border-image: 100% 1 0\; left: auto\; top: auto\; width: auto\; height: auto\; right: auto\; bottom: auto\; color: rgb(68\, 68\, 68)\; line-height: 18.2px\; overflow: visible\; clear: none\; font-family: Arial\, Helvetica\, sans-serif\; font-size: 14px\; vertical-align: baseline\; float: none\; display: inline\; visibility: inherit\; border-collapse: separate\; position: static\; z-index: auto\; table-layout: auto\; direction: inherit\; -ms-word-break: inherit\; -ms-text-justify: inherit\; -ms-word-wrap: inherit\; -ms-text-overflow: clip\; max-height: none\; max-width: none\; content: normal\; box-sizing: content-box\; empty-cells: show\; opacity: 1\; box-shadow: none\; background-image: none\; resize: none\; outline-offset: 0px\;">The Small Business Education Series is a free service for members of the Siouxland Chamber of Commerce.</em></p>\n
LOCATION:Siouxland Chamber of Commerce 101 Pierce Street Sioux City\, IA
UID:e.769.4656
SEQUENCE:3
DTSTAMP:20260420T105146Z
URL:https://directory.siouxlandchamber.com/events/details/small-business-education-series-2-20-18-4656
END:VEVENT

END:VCALENDAR
