BEGIN:VCALENDAR
VERSION:2.0
PRODID:-//ChamberMaster//Event Calendar 2.0//EN
METHOD:PUBLISH
X-PUBLISHED-TTL:P3D
REFRESH-INTERVAL:P3D
CALSCALE:GREGORIAN
BEGIN:VEVENT
DTSTART:20180201T133000Z
DTEND:20180201T143000Z
X-MICROSOFT-CDO-ALLDAYEVENT:FALSE
SUMMARY:Small Business Education Series 2/1/18
DESCRIPTION:Intellectual Property\n\n\n\nTony Olson\n\nPresident\n\nD2 Worldwide\n\n\n\nIntellectual property (IP) makes up 35% of the total US economy\, yet many companies know very little about it. Tony Olson of D2 Worldwide\, a North Sioux City technology firm\, will walk you through IP and how this little understood asset drives some of the biggest developments in business\, arts\, science\, and government. Join us to learn more about IP  what it is\, what it protects\, how to start a program\, and how to protect ideas.\n\n\n\n\n\nAbout D2\n\nIn business since 2004\, D2 provides data analysis\, behavioral science\, global communications and information technology services designed to improve customer satisfaction through user-friendly products and effective support materials. Clients range from locally-owned companies to Fortune 500 corporations spanning the globe.\n\n\n\n\n\nThe Small Business Education Series\, is a peer-to-peer information exchange presented by the Siouxland Chamber of Commerce. Join us each month as a local subject matter expert will share their expertise and experience on timely\, focused topics important to small business owners. Whether it's accounting\, HR\, legal\, banking & finance\, marketing\, or management the Small Business Education Series will give you the tools and knowledge you need to more effectively run your small business.\n\n\n\nNot a member? If you're a business large or small in the Siouxland area you should be! Join Now to enjoy all of the benefits only a Siouxland Chamber membership can offer.\n\n\n\nThe Small Business Education Series is a free service for members of the Siouxland Chamber of Commerce.
X-ALT-DESC;FMTTYPE=text/html:<p><span style="font-size: 14px\;"><b>Intellectual Property</b></span><br />\n<br />\n<strong><font color="#444444">Tony Olson</font></strong><br />\nPresident<br />\nD2 Worldwide<br />\n<br />\n<span style="color:windowtext\;"><span style="font-family:calibri\,sans-serif\;"><span style="font-size:11.0pt\;">Intellectual property (IP) makes up 35% of the total US economy\, yet many companies know very little about it. Tony Olson of D2 Worldwide\, a North Sioux City technology firm\, will walk you through IP and how this little understood asset drives some of the biggest developments in business\, arts\, science\, and government. Join us to learn more about IP&mdash\; what it is\, what it protects\, how to start a program\, and how to protect ideas.</span></span></span><br />\n<br />\n<br />\n<font face="arial\, sans-serif"><span style="font-size: 14px\;"><strong>About D2</strong></span></font><br />\n<span style="color:windowtext\;"><span style="font-family:calibri\,sans-serif\;"><span style="font-size:11.0pt\;">In business since 2004\, D2 provides data analysis\, behavioral science\, global communications and information technology services designed to improve customer satisfaction through user-friendly products and effective support materials. Clients range from locally-owned companies to Fortune 500 corporations spanning the globe.</span></span></span><br />\n<br />\n<br />\n<span style="font-size:12px\;"><span style="color: rgb(68\, 68\, 68)\; line-height: 18.2px\;">The&nbsp\;</span><span style="margin: 0px\; padding: 0px\; border-radius: 0px\; border: currentcolor\; left: auto\; top: auto\; width: auto\; height: auto\; right: auto\; bottom: auto\; color: rgb(68\, 68\, 68)\; line-height: 18.2px\; overflow: visible\; clear: none\; font-weight: 700\; vertical-align: baseline\; visibility: inherit\; border-collapse: separate\; position: static\; z-index: auto\; table-layout: auto\; direction: inherit\; max-height: none\; max-width: none\; content: normal\; box-sizing: content-box\; empty-cells: show\; opacity: 1\; box-shadow: none\; background-image: none\; resize: none\; outline-offset: 0px\;">Small Business Education&nbsp\;Series</span><span style="color: rgb(68\, 68\, 68)\; line-height: 18.2px\;">\, is a peer-to-peer information exchange presented by the&nbsp\;Siouxland&nbsp\;Chamber of Commerce. Join us each month as a local subject matter expert will share their expertise and experience on timely\, focused topics important to small business owners. Whether it&#39\;s accounting\, HR\, legal\, banking &amp\; finance\, marketing\, or management the Small Business Education Series will give you the tools and knowledge you need to more effectively run your small business.</span></span><br />\n<br />\n<span style="font-size: 14px\;"><span style="line-height: 20.79px\;"><em><strong>Not a member?</strong></em> If you&#39\;re a business large or small in the&nbsp\;</span>Siouxland<span style="line-height: 20.79px\;">&nbsp\;area you should be!&nbsp\;</span><a href="http://directory.siouxlandchamber.com/member/newmemberapp/" style="line-height: 20.79px\;"><span style="color: rgb(0\, 0\, 255)\;">Join Now</span></a><span style="line-height: 20.79px\;">&nbsp\;to enjoy&nbsp\;all of the benefits only a&nbsp\;</span>Siouxland<span style="line-height: 20.79px\;">&nbsp\;Chamber membership can offer.</span></span><br />\n<br />\n<em style="margin: 0px\; padding: 0px\; border-radius: 0px\; border: currentColor\; border-image: 100% 1 0\; left: auto\; top: auto\; width: auto\; height: auto\; right: auto\; bottom: auto\; color: rgb(68\, 68\, 68)\; line-height: 18.2px\; overflow: visible\; clear: none\; font-family: Arial\, Helvetica\, sans-serif\; font-size: 14px\; vertical-align: baseline\; float: none\; display: inline\; visibility: inherit\; border-collapse: separate\; position: static\; z-index: auto\; table-layout: auto\; direction: inherit\; -ms-word-break: inherit\; -ms-text-justify: inherit\; -ms-word-wrap: inherit\; -ms-text-overflow: clip\; max-height: none\; max-width: none\; content: normal\; box-sizing: content-box\; empty-cells: show\; opacity: 1\; box-shadow: none\; background-image: none\; resize: none\; outline-offset: 0px\;">The Small Business Education Series is a free service for members of the Siouxland Chamber of Commerce.</em></p>\n
LOCATION:Siouxland Chamber of Commerce 101 Pierce Street Sioux City\, IA
UID:e.769.4645
SEQUENCE:3
DTSTAMP:20260420T105238Z
URL:https://directory.siouxlandchamber.com/events/details/small-business-education-series-2-1-18-4645
END:VEVENT

END:VCALENDAR
