BEGIN:VCALENDAR
VERSION:2.0
PRODID:-//ChamberMaster//Event Calendar 2.0//EN
METHOD:PUBLISH
X-PUBLISHED-TTL:P3D
REFRESH-INTERVAL:P3D
CALSCALE:GREGORIAN
BEGIN:VEVENT
DTSTART:20171129T133000Z
DTEND:20171129T143000Z
X-MICROSOFT-CDO-ALLDAYEVENT:FALSE
SUMMARY:Small Business Education Series 11/29/17
DESCRIPTION:Stop! Do Not Pass Go!\n\n7 Things You Need To Do Before Proceeding with Social Media\n\n\n\nwith\n\n\n\nBeth Trejo\, Founder & CEO\n\nChatterkick\n\n\n\nIs your organization rolling the dice on the youngest person in the office to develop a winning strategy on social? Do you struggle to see how the fun and games of social media translate into real business results?\n\n\n\nIn 2018 it will be critical for all businesses to make moves on social media. Your customers work\, play\, and engage online\, and it's time for you to join the game. Social media provides a virtual treasure chest of customer info and opportunities to connect. In fact\, 80% of internet users own smartphones\, which means brands big and small have hit the jackpot with an opportunity to make direct connections with their customers. \n\n \n\nIn this presentation\, we will review the rulebook of what social media means today\, and how to play to win for your organization:\n\n\n	The Players - Account permissions & proper setup\n	Take Turns - Notifications and response time\n	The Game - What to post and digital story telling\n	The Rules - Platform rules and image use\n	The Strategy - Facebook pixel and aligning social media to your business goals\n	More Players - Hiring & finding help\n\nJoin us to learn how to win the game on social media!\n\n\n\nAbout Beth Trejo\n\nAs the Founder & CEO of Chatterkick\, Beth lives and breathes all things online. It's her goal to offer real-world practical solutions to businesses and leaders throughout the community. Although many consider her strengths in technology\, she is still a firm believer in a good ol' fashioned handshake\n\n\n\n\n\nThe Small Business Education Series\, is a peer-to-peer information exchange presented by the Siouxland Chamber of Commerce. Join us each month as a local subject matter expert will share their expertise and experience on timely\, focused topics important to small business owners. Whether it's accounting\, HR\, legal\, banking & finance\, marketing\, or management the Small Business Education Series will give you the tools and knowledge you need to more effectively run your small business.\n\n\n\nNot a member? If you're a business large or small in the Siouxland area you should be! Join Now to enjoy all of the benefits only a Siouxland Chamber membership can offer.\n\n\n\nThe Small Business Education Series is a free service for members of the Siouxland Chamber of Commerce.
X-ALT-DESC;FMTTYPE=text/html:<p><span style="font-size: 14px\;"><b>Stop! Do Not Pass Go!<br />\n7 Things You Need To Do Before Proceeding with Social Media</b></span><br />\n<br />\nwith<br />\n<br />\n<span style="font-size:14px\;"><strong><font color="#444444">Beth Trejo\, Founder &amp\; CEO</font></strong><br />\nChatterkick</span><br />\n<br />\n<em><span style="font-size:9.5pt\;">Is your organization rolling the dice on the youngest person in the office to develop a winning strategy on social? Do you struggle to see how the fun and games of social media translate into real business results?</span></em><br />\n<br />\n<span style="font-size:9.5pt\;">In 2018 it will be&nbsp\;critical for all businesses to make&nbsp\;moves&nbsp\;on social media. Your customers work\, play\, and engage online\, and it&#39\;s time for you to join the game. Social media provides a virtual treasure chest of customer info and opportunities to connect. In fact\, 80% of internet users own smartphones\, which means brands big and small have hit the jackpot with an opportunity&nbsp\;to make direct connections with their customers.&nbsp\;</span><br />\n&nbsp\;<br />\n<span style="font-size:9.5pt\;">In this presentation\, we will review the rulebook of what social media means today\, and how to play to win for your&nbsp\;organization:</span></p>\n\n<ul>\n	<li><strong style="font-size: 9.5pt\;">The Players -&nbsp\;</strong><span style="font-size: 9.5pt\;">Account permissions &amp\; proper setup</span></li>\n	<li><strong>Take Turns -&nbsp\;</strong>Notifications and response time</li>\n	<li><strong>The Game -&nbsp\;</strong>What to post and digital story telling</li>\n	<li><strong>The Rules -&nbsp\;</strong>Platform rules and image use</li>\n	<li><strong>The Strategy -&nbsp\;</strong>Facebook pixel and aligning social media to your business goals</li>\n	<li><strong>More Players -&nbsp\;</strong>Hiring &amp\; finding help</li>\n</ul>\nJoin us to learn how to win the game on social media!<br />\n<br />\n<strong>About Beth Trejo</strong><br />\n<span style="color: rgb(0\, 0\, 0)\; font-family: &quot\;Open Sans&quot\;\, Arial\, Helvetica\, sans-serif\;">As the Founder &amp\; CEO of Chatterkick\, Beth&nbsp\;lives and breathes all things online. It&rsquo\;s her goal to offer real-world practical solutions to businesses and leaders throughout the community. Although many consider her strengths in technology\, she is still a firm believer in a good ol&rsquo\; fashioned handshake</span>\n\n<p><br />\n<br />\n<span style="font-size:12px\;"><span style="color: rgb(68\, 68\, 68)\; line-height: 18.2px\;">The&nbsp\;</span><span style="margin: 0px\; padding: 0px\; border-radius: 0px\; border: currentcolor\; left: auto\; top: auto\; width: auto\; height: auto\; right: auto\; bottom: auto\; color: rgb(68\, 68\, 68)\; line-height: 18.2px\; overflow: visible\; clear: none\; font-weight: 700\; vertical-align: baseline\; visibility: inherit\; border-collapse: separate\; position: static\; z-index: auto\; table-layout: auto\; direction: inherit\; max-height: none\; max-width: none\; content: normal\; box-sizing: content-box\; empty-cells: show\; opacity: 1\; box-shadow: none\; background-image: none\; resize: none\; outline-offset: 0px\;">Small Business Education&nbsp\;Series</span><span style="color: rgb(68\, 68\, 68)\; line-height: 18.2px\;">\, is a peer-to-peer information exchange presented by the&nbsp\;Siouxland&nbsp\;Chamber of Commerce. Join us each month as a local subject matter expert will share their expertise and experience on timely\, focused topics important to small business owners. Whether it&#39\;s accounting\, HR\, legal\, banking &amp\; finance\, marketing\, or management the Small Business Education Series will give you the tools and knowledge you need to more effectively run your small business.</span></span><br />\n<br />\n<span style="font-size: 14px\;"><span style="line-height: 20.79px\;"><em><strong>Not a member?</strong></em> If you&#39\;re a business large or small in the&nbsp\;</span>Siouxland<span style="line-height: 20.79px\;">&nbsp\;area you should be!&nbsp\;</span><a href="http://directory.siouxlandchamber.com/member/newmemberapp/" style="line-height: 20.79px\;"><span style="color: rgb(0\, 0\, 255)\;">Join Now</span></a><span style="line-height: 20.79px\;">&nbsp\;to enjoy&nbsp\;all of the benefits only a&nbsp\;</span>Siouxland<span style="line-height: 20.79px\;">&nbsp\;Chamber membership can offer.</span></span><br />\n<br />\n<em style="margin: 0px\; padding: 0px\; border-radius: 0px\; border: currentColor\; border-image: 100% 1 0\; left: auto\; top: auto\; width: auto\; height: auto\; right: auto\; bottom: auto\; color: rgb(68\, 68\, 68)\; line-height: 18.2px\; overflow: visible\; clear: none\; font-family: Arial\, Helvetica\, sans-serif\; font-size: 14px\; vertical-align: baseline\; float: none\; display: inline\; visibility: inherit\; border-collapse: separate\; position: static\; z-index: auto\; table-layout: auto\; direction: inherit\; -ms-word-break: inherit\; -ms-text-justify: inherit\; -ms-word-wrap: inherit\; -ms-text-overflow: clip\; max-height: none\; max-width: none\; content: normal\; box-sizing: content-box\; empty-cells: show\; opacity: 1\; box-shadow: none\; background-image: none\; resize: none\; outline-offset: 0px\;">The Small Business Education Series is a free service for members of the Siouxland Chamber of Commerce.</em></p>\n
LOCATION:Siouxland Chamber of Commerce 101 Pierce Street Sioux City\, IA
UID:e.769.4609
SEQUENCE:3
DTSTAMP:20260420T061600Z
URL:https://directory.siouxlandchamber.com/events/details/small-business-education-series-11-29-17-4609
END:VEVENT

END:VCALENDAR
