BEGIN:VCALENDAR
VERSION:2.0
PRODID:-//ChamberMaster//Event Calendar 2.0//EN
METHOD:PUBLISH
X-PUBLISHED-TTL:P3D
REFRESH-INTERVAL:P3D
CALSCALE:GREGORIAN
BEGIN:VEVENT
DTSTART:20181128T180000Z
DTEND:20181128T190000Z
X-MICROSOFT-CDO-ALLDAYEVENT:FALSE
SUMMARY:Small Business Education Series 11/28/18
DESCRIPTION:Presentation by Siouxland Toastmasters\n\nhttps://www.toastmasters.org/Magazine/listing/category/articles\n\n\n\nTypically\, more than half of a person's day is spent in oral communication\, in which you could be persuading\, explaining\, influencing\, motivating\, counseling\, or instructing. A company's success depends largely on communication skills\, whether that be with your employees or clients and customers. Join us as representatives with Siouxland Toastmasters discuss ways to hone these skills.\n\n\n\n\n\nThe Small Business Education Series\, is a peer-to-peer information exchange presented by the Siouxland Chamber of Commerce. Join us each month as a local subject matter expert will share their expertise and experience on timely\, focused topics important to small business owners. Whether it's accounting\, HR\, legal\, banking & finance\, marketing\, or management the Small Business Education Series will give you the tools and knowledge you need to more effectively run your small business.\n\n\n\nNot a member? If you're a business large or small in the Siouxland area you should be! Join Now to enjoy all of the benefits only a Siouxland Chamber membership can offer.
X-ALT-DESC;FMTTYPE=text/html:<strong><em>Presentation by Siouxland Toastmasters</em></strong><br />\n<a href="https://www.toastmasters.org/Magazine/listing/category/articles">https://www.toastmasters.org/Magazine/listing/category/articles</a><br />\n<br />\nTypically\, more than half&nbsp\;of a person&#39\;s day is spent in oral communication\, in which you could be persuading\, explaining\, influencing\, motivating\, counseling\, or instructing. A company&#39\;s success depends largely on communication skills\, whether that be with your employees or clients and customers. Join us as representatives with Siouxland Toastmasters discuss ways to hone these skills.<br />\n<br />\n<br />\n<span style="color: rgb(68\, 68\, 68)\; font-family:\;">The&nbsp\;<span style="border-radius: 0px\; border: currentColor\; border-image: none\; right: auto\; bottom: auto\; overflow: visible\; visibility: inherit\; z-index: auto\; max-height: none\; max-width: none\; content: normal\; box-sizing: content-box\; empty-cells: show\; opacity: 1\; box-shadow: none\; resize: none\; outline-offset: 0px\;"><b>Small Business Education&nbsp\;Series</b></span>\, is a peer-to-peer information exchange presented by the&nbsp\;Siouxland&nbsp\;Chamber of Commerce. Join us each month as a local subject matter expert will share their expertise and experience on timely\, focused topics important to small business owners. Whether it&#39\;s accounting\, HR\, legal\, banking &amp\; finance\, marketing\, or management the Small Business Education Series will give you the tools and knowledge you need to more effectively run your small <span style="font-size: 12px\;">business.</span></span><br />\n<br />\n<span style="font-size: 12px\;"><strong><i><span style="font-family:\;"><font color="#000000">Not a member?</font></span></i></strong><span style="font-family:\;"><font color="#000000"> If you&#39\;re a business large or small in the&nbsp\;Siouxland&nbsp\;area you should be!&nbsp\;</font><a href="http://directory.siouxlandchamber.com/member/newmemberapp/"><font color="#0000ff">Join Now</font></a><font color="#000000">&nbsp\;to enjoy&nbsp\;all of the benefits only a&nbsp\;Siouxland&nbsp\;Chamber membership can offer.</font></span></span>\n<p>&nbsp\;</p>\n
LOCATION:Chamber Office 701 Pierce St On-street parking available.
UID:e.769.4694
SEQUENCE:3
DTSTAMP:20260421T001535Z
URL:https://directory.siouxlandchamber.com/events/details/small-business-education-series-11-28-18-4694
END:VEVENT

END:VCALENDAR
