BEGIN:VCALENDAR
VERSION:2.0
PRODID:-//ChamberMaster//Event Calendar 2.0//EN
METHOD:PUBLISH
X-PUBLISHED-TTL:P3D
REFRESH-INTERVAL:P3D
CALSCALE:GREGORIAN
BEGIN:VEVENT
DTSTART:20161122T133000Z
DTEND:20161122T143000Z
X-MICROSOFT-CDO-ALLDAYEVENT:FALSE
SUMMARY:Small Business Education Series 11/22/16
DESCRIPTION:The PATH to Tax Refund Sales\n\nKen Wells\, Brandi Beller\, and Elizabeth Stewart\n\nH&R Block\n\n\n\n\n\nAre you planning sales promotions during tax return time? Do you know about IRS changes to your customers' tax return schedule?\n\n \n\nMost tax refunds that were normally available in January will NOT be available until late February or March. If your business is planning on sales and promotions during refund season\, and you're making inventory and marketing decisions\, this session is for you. Tax experts at H&R Block will explain new IRS changes and the PATH Act to help your business plan for your refund sales promotions\, and inform you about additional IRS changes related to retail\, durable goods\, and real estate.\n\n\n\nThe Small Business Education Series\, is a peer-to-peer information exchange presented by the Siouxland Chamber of Commerce. Join us each month as a local subject matter expert will share their expertise and experience on timely\, focused topics important to small business owners. Whether it's accounting\, HR\, legal\, banking & finance\, marketing\, or management the Small Business Education Series will give you the tools and knowledge you need to more effectively run your small business.\n\n\n\nNot a member? If you're a business large or small in the Siouxland area you should be! Join Now to enjoy all of the benefits only a Siouxland Chamber membership can offer.\n\n\n\nThe Small Business Education Series is a free service for members of the Siouxland Chamber of Commerce.
X-ALT-DESC;FMTTYPE=text/html:<span style="font-size: 14px\;"><b>The PATH to Tax Refund Sales</b><br />\n<font color="#444444">Ken Wells\, Brandi Beller\, and Elizabeth Stewart</font></span><br />\nH&amp\;R Block<br />\n<br />\n<br />\n<font face="Arial\, sans-serif"><span style="font-size: 14px\;"><b><i>Are you planning sales promotions during tax return time? Do you know about IRS changes to your customers&#39\; tax return schedule?</i></b></span></font><br />\n<span style="font-size: 14px\;">&nbsp\;</span><br />\n<font face="arial\, sans-serif"><span style="font-size: 14px\;">Most tax refunds that were normally available in January will NOT be available until late February or March. If your business is planning on sales and promotions during refund season\, and you&#39\;re making inventory and marketing decisions\, this session is for you. Tax experts at H&amp\;R Block will explain new IRS changes and the PATH Act to help your business plan for your refund sales promotions\, and inform you about additional IRS changes related to retail\, durable goods\, and real estate.</span></font><br />\n<br />\n<span style="color: rgb(68\, 68\, 68)\; line-height: 18.2px\; font-size: 14px\;">The&nbsp\;</span><span style="margin: 0px\; padding: 0px\; border-radius: 0px\; border: currentColor\; border-image: 100% 1 0\; left: auto\; top: auto\; width: auto\; height: auto\; right: auto\; bottom: auto\; color: rgb(68\, 68\, 68)\; line-height: 18.2px\; overflow: visible\; clear: none\; font-size: 14px\; font-weight: 700\; vertical-align: baseline\; visibility: inherit\; border-collapse: separate\; position: static\; z-index: auto\; table-layout: auto\; direction: inherit\; max-height: none\; max-width: none\; content: normal\; box-sizing: content-box\; empty-cells: show\; opacity: 1\; box-shadow: none\; background-image: none\; resize: none\; outline-offset: 0px\;">Small Business Education&nbsp\;Series</span><span style="color: rgb(68\, 68\, 68)\; line-height: 18.2px\; font-size: 14px\;">\, is a peer-to-peer information exchange presented by the&nbsp\;Siouxland&nbsp\;Chamber of Commerce. Join us each month as a local subject matter expert will share their expertise and experience on timely\, focused topics important to small business owners. Whether it&#39\;s accounting\, HR\, legal\, banking &amp\; finance\, marketing\, or management the Small Business Education Series will give you the tools and knowledge you need to more effectively run your small business.</span><br />\n<br />\n<span style="font-size: 14px\;"><span style="line-height: 20.79px\;"><em><strong>Not a member?</strong></em> If you&#39\;re a business large or small in the&nbsp\;</span>Siouxland<span style="line-height: 20.79px\;">&nbsp\;area you should be!&nbsp\;</span><a href="http://directory.siouxlandchamber.com/member/newmemberapp/" style="line-height: 20.79px\;"><span style="color: rgb(0\, 0\, 255)\;">Join Now</span></a><span style="line-height: 20.79px\;">&nbsp\;to enjoy&nbsp\;all of the benefits only a&nbsp\;</span>Siouxland<span style="line-height: 20.79px\;">&nbsp\;Chamber membership can offer.</span></span><br />\n<br />\n<em style="margin: 0px\; padding: 0px\; border-radius: 0px\; border: currentColor\; border-image: 100% 1 0\; left: auto\; top: auto\; width: auto\; height: auto\; right: auto\; bottom: auto\; color: rgb(68\, 68\, 68)\; line-height: 18.2px\; overflow: visible\; clear: none\; font-family: Arial\, Helvetica\, sans-serif\; font-size: 14px\; vertical-align: baseline\; float: none\; display: inline\; visibility: inherit\; border-collapse: separate\; position: static\; z-index: auto\; table-layout: auto\; direction: inherit\; -ms-word-break: inherit\; -ms-text-justify: inherit\; -ms-word-wrap: inherit\; -ms-text-overflow: clip\; max-height: none\; max-width: none\; content: normal\; box-sizing: content-box\; empty-cells: show\; opacity: 1\; box-shadow: none\; background-image: none\; resize: none\; outline-offset: 0px\;">The Small Business Education Series is a free service for members of the Siouxland Chamber of Commerce.</em>
LOCATION:Siouxland Chamber of Commerce 101 Pierce Street Sioux City\, IA
UID:e.769.3408
SEQUENCE:3
DTSTAMP:20260419T134637Z
URL:https://directory.siouxlandchamber.com/events/details/small-business-education-series-11-22-16-3408
END:VEVENT

END:VCALENDAR
