BEGIN:VCALENDAR
VERSION:2.0
PRODID:-//ChamberMaster//Event Calendar 2.0//EN
METHOD:PUBLISH
X-PUBLISHED-TTL:P3D
REFRESH-INTERVAL:P3D
CALSCALE:GREGORIAN
BEGIN:VEVENT
DTSTART:20151007T123000Z
DTEND:20151007T133000Z
X-MICROSOFT-CDO-ALLDAYEVENT:FALSE
SUMMARY:Small Business Education Series 10/7/15
DESCRIPTION:B2B Payments\n\nTodd Tracey & Megan Hopp\n\nSafeguard\n\n\n\n\n\nTechnology is changing the way transactions between businesses are conducted. Are you prepared?\n\n \n\nWhen your customers purchase your product or service\, the transaction time is often measured in seconds. So why are B2B transactions often measured in days\, weeks or months? Auto-payment systems\, automated clearing house\, Twitter payments\, e-checks are just a few ways in which technology is streamlining secure B2B transactions. And as the payment landscape evolves\, so do the rules and regulations that govern them. Todd Tracey and Megan Hopp of Safeguard will introduce you to new technologies that help your business make and receive payments quicker and more securely in a rapidly changing business environment.\n\n\n\n The Small Business Education Series\, is a peer-to-peer information exchange presented by the Siouxland Chamber of Commerce. Join us each month as a local subject matter expert will share their expertise and experience on timely\, focused topics important to small business owners. Whether it's accounting\, HR\, legal\, banking & finance\, marketing\, or management the Small Business Education Series will give you the tools and knowledge you need to more effectively run your small business.\n\n\n\nNot a member? If you're a business large or small in the Siouxland area you should be! Join Now to enjoy all of the benefits only a Siouxland Chamber membership can offer.\n\n\n\nThe Small Business Education Series is a free service for members of the Siouxland Chamber of Commerce.
X-ALT-DESC;FMTTYPE=text/html:<span style="font-size:14px\;"><b>B2B Payments</b><br />\n<font color="#444444"><span style="line-height: 18.2px\;">Todd Tracey &amp\; Megan Hopp</span></font><br />\nSafeguard</span><br />\n<br />\n<br />\n<strong><em><span style="font-size: 10.5pt\; font-family: Arial\, sans-serif\;">Technology is changing the way transactions between businesses are conducted. Are you prepared?</span></em></strong><br />\n<span style="font-size:14px\;">&nbsp\;</span><br />\n<span style="color:#333333\;"><span style="font-family:arial\,sans-serif\;"><span style="font-size:10.5pt\;">When your customers purchase your product or service\, the transaction time is often measured in seconds. So why are B2B transactions often measured in days\, weeks or months? Auto-payment systems\, automated clearing house\, Twitter payments\, e-checks are just a few ways in which technology is streamlining secure B2B transactions. And as the payment landscape evolves\, so do the rules and regulations that govern them. Todd Tracey and Megan Hopp of Safeguard will introduce you to new technologies that help your business make and receive payments</span></span></span>&nbsp\;<span style="color:#333333\;"><span style="font-family:arial\,sans-serif\;"><span style="font-size:10.5pt\;">quicker and more securely in a rapidly changing business environment.</span></span></span><br />\n<br />\n&nbsp\;<span style="color: rgb(68\, 68\, 68)\; line-height: 18.2px\; font-size: 14px\;">The&nbsp\;</span><span style="margin: 0px\; padding: 0px\; border-radius: 0px\; border: currentcolor\; border-image-slice: 100% 1 0\; left: auto\; top: auto\; width: auto\; height: auto\; right: auto\; bottom: auto\; color: rgb(68\, 68\, 68)\; line-height: 18.2px\; overflow: visible\; clear: none\; font-size: 14px\; font-weight: 700\; vertical-align: baseline\; visibility: inherit\; border-collapse: separate\; position: static\; z-index: auto\; table-layout: auto\; direction: inherit\; max-height: none\; max-width: none\; content: normal\; box-sizing: content-box\; empty-cells: show\; opacity: 1\; box-shadow: none\; resize: none\; outline-offset: 0px\; background-image: none\;">Small Business Education&nbsp\;Series</span><span style="color: rgb(68\, 68\, 68)\; line-height: 18.2px\; font-size: 14px\;">\, is a peer-to-peer information exchange presented by the&nbsp\;Siouxland&nbsp\;Chamber of Commerce. Join us each month as a local subject matter expert will share their expertise and experience on timely\, focused topics important to small business owners. Whether it&#39\;s accounting\, HR\, legal\, banking &amp\; finance\, marketing\, or management the Small Business Education Series will give you the tools and knowledge you need to more effectively run your small business.</span><br />\n<br />\n<span style="font-size:14px\;"><span style="line-height: 20.7999992370605px\;"><em><strong>Not a member?</strong></em> If you&#39\;re a business large or small in the&nbsp\;</span>Siouxland<span style="line-height: 20.7999992370605px\;">&nbsp\;area you should be!&nbsp\;</span><a href="http://directory.siouxlandchamber.com/member/newmemberapp/" style="line-height: 20.7999992370605px\;"><span style="color: rgb(0\, 0\, 255)\;">Join Now</span></a><span style="line-height: 20.7999992370605px\;">&nbsp\;to enjoy&nbsp\;all of the benefits only a&nbsp\;</span>Siouxland<span style="line-height: 20.7999992370605px\;">&nbsp\;Chamber membership can offer.</span></span><br />\n<br />\n<em style="margin: 0px\; padding: 0px\; border-radius: 0px\; border: currentColor\; border-image: 100% 1 0\; left: auto\; top: auto\; width: auto\; height: auto\; right: auto\; bottom: auto\; color: rgb(68\, 68\, 68)\; line-height: 18.2px\; overflow: visible\; clear: none\; font-family: Arial\, Helvetica\, sans-serif\; font-size: 14px\; vertical-align: baseline\; float: none\; display: inline\; visibility: inherit\; border-collapse: separate\; position: static\; z-index: auto\; table-layout: auto\; direction: inherit\; -ms-word-break: inherit\; -ms-text-justify: inherit\; -ms-word-wrap: inherit\; -ms-text-overflow: clip\; max-height: none\; max-width: none\; content: normal\; box-sizing: content-box\; empty-cells: show\; opacity: 1\; box-shadow: none\; background-image: none\; resize: none\; outline-offset: 0px\;">The Small Business Education Series is a free service for members of the Siouxland Chamber of Commerce.</em>
LOCATION:Siouxland Chamber of Commerce 101 Pierce Street Sioux City\, IA
UID:e.769.2171
SEQUENCE:3
DTSTAMP:20260421T130644Z
URL:https://directory.siouxlandchamber.com/events/details/small-business-education-series-10-7-15-10-07-2015-2171
END:VEVENT

END:VCALENDAR
