BEGIN:VCALENDAR
VERSION:2.0
PRODID:-//ChamberMaster//Event Calendar 2.0//EN
METHOD:PUBLISH
X-PUBLISHED-TTL:P3D
REFRESH-INTERVAL:P3D
CALSCALE:GREGORIAN
BEGIN:VEVENT
DTSTART:20191030T170000Z
DTEND:20191030T180000Z
X-MICROSOFT-CDO-ALLDAYEVENT:FALSE
SUMMARY:Small Business Education Series 10/30/19
DESCRIPTION:"What could you accomplish if you could communicate more effectively?"\n\nAre you in sales and wish you could communicate better? Do you wish your presentations had a few less "ums" and "uhs"?! Stacie Anderson with the Siouxland Toastmasters Club will join us to share how better communication skills can make us better salespeople\, better managers\, better leaders.\n\n\n\nThe Small Business Education Series\, is a peer-to-peer information exchange presented by the Siouxland Chamber of Commerce. Join us each month as a local subject matter expert will share their expertise and experience on timely\, focused topics important to small business owners. Whether it's accounting\, HR\, legal\, banking & finance\, marketing\, or management the Small Business Education Series will give you the tools and knowledge you need to more effectively run your small business.\n\n\nNot a member? If you're a business large or small in the Siouxland area you should be! Join Now to enjoy all of the benefits only a Siouxland Chamber membership can offer.
X-ALT-DESC;FMTTYPE=text/html:<p><span style="color: rgb(68\, 68\, 68)\;"><em><strong>&quot\;What could you accomplish if you could communicate more effectively?&quot\;</strong></em><br />\nAre you in sales and wish you could communicate better? Do you wish your presentations had a few less &quot\;ums&quot\; and &quot\;uhs&quot\;?! Stacie Anderson with&nbsp\;the&nbsp\;Siouxland Toastmasters Club will join us to&nbsp\;share how better communication skills can make us better salespeople\, better managers\, better leaders.<br />\n<br />\nThe&nbsp\;</span><span style="border-radius: 0px\; border: currentColor\; border-image: none\; right: auto\; bottom: auto\; color: rgb(68\, 68\, 68)\; overflow: visible\; visibility: inherit\; z-index: auto\; max-height: none\; max-width: none\; content: normal\; box-sizing: content-box\; empty-cells: show\; opacity: 1\; box-shadow: none\; resize: none\; outline-offset: 0px\;"><b>Small Business Education&nbsp\;Series</b></span><span style="color: rgb(68\, 68\, 68)\;">\, is a peer-to-peer information exchange presented by the&nbsp\;Siouxland&nbsp\;Chamber of Commerce. Join us each month as a local subject matter expert will share their expertise and experience on timely\, focused topics important to small business owners. Whether it&#39\;s accounting\, HR\, legal\, banking &amp\; finance\, marketing\, or management the Small Business Education Series will give you the tools and knowledge you need to more effectively run your small </span><span style="color: rgb(68\, 68\, 68)\; font-size: 12px\;">business.</span></p>\n<br />\n<span style="font-size: 12px\;"><strong><i><span style="font-family:\;"><font color="#000000">Not a member?</font></span></i></strong><span style="font-family:\;"><font color="#000000"> If you&#39\;re a business large or small in the&nbsp\;Siouxland&nbsp\;area you should be!&nbsp\;</font><a href="http://directory.siouxlandchamber.com/member/newmemberapp/"><font color="#0000ff">Join Now</font></a><font color="#000000">&nbsp\;to enjoy&nbsp\;all of the benefits only a&nbsp\;Siouxland&nbsp\;Chamber membership can offer.</font></span></span>\n\n<p>&nbsp\;</p>\n
LOCATION:Chamber Office 101 Pierce St
UID:e.769.5151
SEQUENCE:3
DTSTAMP:20260421T181528Z
URL:https://directory.siouxlandchamber.com/events/details/small-business-education-series-10-30-19-5151
END:VEVENT

END:VCALENDAR
