BEGIN:VCALENDAR
VERSION:2.0
PRODID:-//ChamberMaster//Event Calendar 2.0//EN
METHOD:PUBLISH
X-PUBLISHED-TTL:P3D
REFRESH-INTERVAL:P3D
CALSCALE:GREGORIAN
BEGIN:VEVENT
DTSTART:20171025T170000Z
DTEND:20171025T180000Z
X-MICROSOFT-CDO-ALLDAYEVENT:FALSE
SUMMARY:Small Business Education Series 10/25/17
DESCRIPTION:Hire\, Retain\, Succeed: Talent Strategies for the Future-Ready Business\n\n\n\nLindsay Stevenson\n\n1st Financial Bank USA\n\nSCORE\n\n\n\nIn today's disruptive business environment\, human capital has become one of the biggest concerns for organizations. Talent acquisition\, development and retention has become a focal point in strategic planning and can make or break our ability to succeed in the marketplace. How can small businesses leverage the knowledge and resources large organizations are using to remain competitive in the talent market? How can your human capital strategy drive the long-term profitability and succession planning of your business? Join us as we explore human capital trends and discuss what actionable tools/resources your business can implement today to drive success tomorrow.\n\n\n\n\n\nNote the noon start time and feel free to bring a lunch!\n\n\n\n\n\nAbout Lindsay Stevenson\n\nLindsay is the Chair of the Sioux City SCORE chapter and a Vice President of Finance-Tax at 1st Financial Bank USA in Dakota Dunes. She is the 2017 AICPA Outstanding Young CPA Award recipient\, Vice Chair of the AICPA Young Members Leadership Committee\, Board member of Mary J. Treglia Community House in Sioux City\, and recently was named by CPA Practice Advisor as a 2017 40 Under 40. Lindsay is passionate about helping individuals tap into their potential to positively impact the innovation and success of their organization and their professions at large. She graduated from Gonzaga University with a BA in Accounting and is still a die-hard Zags basketball fan!\n\n\n\n\n\nThe Small Business Education Series\, is a peer-to-peer information exchange presented by the Siouxland Chamber of Commerce. Join us each month as a local subject matter expert will share their expertise and experience on timely\, focused topics important to small business owners. Whether it's accounting\, HR\, legal\, banking & finance\, marketing\, or management the Small Business Education Series will give you the tools and knowledge you need to more effectively run your small business.\n\n\n\nNot a member? If you're a business large or small in the Siouxland area you should be! Join Now to enjoy all of the benefits only a Siouxland Chamber membership can offer.\n\n\n\nThe Small Business Education Series is a free service for members of the Siouxland Chamber of Commerce.
X-ALT-DESC;FMTTYPE=text/html:<p><span style="font-size: 14px\;"><b>Hire\, Retain\, Succeed: Talent Strategies for the Future-Ready Business</b></span><br />\n<br />\n<strong><font color="#444444">Lindsay Stevenson</font></strong><br />\n1st Financial Bank USA<br />\nSCORE<br />\n<br />\nIn today&rsquo\;s disruptive business environment\, human capital has become one of the biggest concerns for organizations. Talent acquisition\, development and retention has become a focal point in strategic planning and can make or break our ability to succeed in the marketplace. How can small businesses leverage the knowledge and resources large organizations are using to remain competitive in the talent market? How can your human capital strategy drive the long-term profitability and succession planning of your business? Join us as we explore human capital trends and discuss what actionable tools/resources your business can implement today to drive success tomorrow.<br />\n<br />\n<br />\n<font face="arial\, sans-serif"><span style="font-size: 14px\;"><strong><em>Note the noon start time and feel free to bring a lunch!</em></strong><br />\n<br />\n<br />\n<strong>About Lindsay Stevenson</strong></span></font><br />\n<span style="font-size:12px\;"><span style="font-family:arial\;">Lindsay is the Chair of the Sioux City SCORE chapter and a Vice President of Finance-Tax at 1<sup>st</sup> Financial Bank USA in Dakota Dunes. She is the 2017 AICPA Outstanding Young CPA Award recipient\, Vice Chair of the AICPA Young Members Leadership Committee\, Board member of Mary J. Treglia Community House in Sioux City\, and recently was named by CPA Practice Advisor as a 2017 40 Under 40. Lindsay is passionate about helping individuals tap into their potential to positively impact the innovation and success of their organization and their professions at large. She graduated from Gonzaga University with a BA in Accounting and is still a die-hard Zags basketball fan!</span></span><br />\n<br />\n<br />\n<span style="font-size:12px\;"><span style="color: rgb(68\, 68\, 68)\; line-height: 18.2px\;">The&nbsp\;</span><span style="margin: 0px\; padding: 0px\; border-radius: 0px\; border: currentcolor\; left: auto\; top: auto\; width: auto\; height: auto\; right: auto\; bottom: auto\; color: rgb(68\, 68\, 68)\; line-height: 18.2px\; overflow: visible\; clear: none\; font-weight: 700\; vertical-align: baseline\; visibility: inherit\; border-collapse: separate\; position: static\; z-index: auto\; table-layout: auto\; direction: inherit\; max-height: none\; max-width: none\; content: normal\; box-sizing: content-box\; empty-cells: show\; opacity: 1\; box-shadow: none\; background-image: none\; resize: none\; outline-offset: 0px\;">Small Business Education&nbsp\;Series</span><span style="color: rgb(68\, 68\, 68)\; line-height: 18.2px\;">\, is a peer-to-peer information exchange presented by the&nbsp\;Siouxland&nbsp\;Chamber of Commerce. Join us each month as a local subject matter expert will share their expertise and experience on timely\, focused topics important to small business owners. Whether it&#39\;s accounting\, HR\, legal\, banking &amp\; finance\, marketing\, or management the Small Business Education Series will give you the tools and knowledge you need to more effectively run your small business.</span></span><br />\n<br />\n<span style="font-size: 14px\;"><span style="line-height: 20.79px\;"><em><strong>Not a member?</strong></em> If you&#39\;re a business large or small in the&nbsp\;</span>Siouxland<span style="line-height: 20.79px\;">&nbsp\;area you should be!&nbsp\;</span><a href="http://directory.siouxlandchamber.com/member/newmemberapp/" style="line-height: 20.79px\;"><span style="color: rgb(0\, 0\, 255)\;">Join Now</span></a><span style="line-height: 20.79px\;">&nbsp\;to enjoy&nbsp\;all of the benefits only a&nbsp\;</span>Siouxland<span style="line-height: 20.79px\;">&nbsp\;Chamber membership can offer.</span></span><br />\n<br />\n<em style="margin: 0px\; padding: 0px\; border-radius: 0px\; border: currentColor\; border-image: 100% 1 0\; left: auto\; top: auto\; width: auto\; height: auto\; right: auto\; bottom: auto\; color: rgb(68\, 68\, 68)\; line-height: 18.2px\; overflow: visible\; clear: none\; font-family: Arial\, Helvetica\, sans-serif\; font-size: 14px\; vertical-align: baseline\; float: none\; display: inline\; visibility: inherit\; border-collapse: separate\; position: static\; z-index: auto\; table-layout: auto\; direction: inherit\; -ms-word-break: inherit\; -ms-text-justify: inherit\; -ms-word-wrap: inherit\; -ms-text-overflow: clip\; max-height: none\; max-width: none\; content: normal\; box-sizing: content-box\; empty-cells: show\; opacity: 1\; box-shadow: none\; background-image: none\; resize: none\; outline-offset: 0px\;">The Small Business Education Series is a free service for members of the Siouxland Chamber of Commerce.</em></p>\n
LOCATION:Siouxland Chamber of Commerce 101 Pierce Street Sioux City\, IA
UID:e.769.4591
SEQUENCE:3
DTSTAMP:20260420T044336Z
URL:https://directory.siouxlandchamber.com/events/details/small-business-education-series-10-25-17-4591
END:VEVENT

END:VCALENDAR
