BEGIN:VCALENDAR
VERSION:2.0
PRODID:-//ChamberMaster//Event Calendar 2.0//EN
METHOD:PUBLISH
X-PUBLISHED-TTL:P3D
REFRESH-INTERVAL:P3D
CALSCALE:GREGORIAN
BEGIN:VEVENT
DTSTART:20160106T133000Z
DTEND:20160106T143000Z
X-MICROSOFT-CDO-ALLDAYEVENT:FALSE
SUMMARY:Small Business Education Series 1/6/16
DESCRIPTION:Take Charge of Your Online Reputation\n\nBeth Trejo\n\nChatterkick\n\n\n\n\n\nWarning: You're Losing Money By Ignoring Your Online Reviews\n\nDiscover the tactics and practices you can implement today to improve your online reputation one step at a time.\n\n \n\nThe success of an organization relies heavily on reputation\, both offline and online. Research shows a number of factors can contribute to online reputation\, influencing perception\, and ultimately affecting how your consumers make buying decisions. So how do you create a better online reputation? Join us at the Small Business Education Series and we'll give you practical and real-world advice on how you can take charge of your online reputation. \n\n \n\nAttendees will learn:\n\n\n	The fastest way to clean and claim your online listing.\n	Why online reviews matter\, and how to overcome negative feedback by delivering respectful and personalized responses.\n	Helpful Dos and Don'ts for increasing positive online reviews and enhancing your brand's story.\n\nThis will be one Small Business Education Series you won't want to miss! \n\n\n\nThe Small Business Education Series\, is a peer-to-peer information exchange presented by the Siouxland Chamber of Commerce. Join us each month as a local subject matter expert will share their expertise and experience on timely\, focused topics important to small business owners. Whether it's accounting\, HR\, legal\, banking & finance\, marketing\, or management the Small Business Education Series will give you the tools and knowledge you need to more effectively run your small business.\n\n\n\nNot a member? If you're a business large or small in the Siouxland area you should be! Join Now to enjoy all of the benefits only a Siouxland Chamber membership can offer.\n\n\n\nThe Small Business Education Series is a free service for members of the Siouxland Chamber of Commerce.
X-ALT-DESC;FMTTYPE=text/html:<span style="font-size:14px\;"><b>Take Charge of Your Online Reputation</b><br />\n<font color="#444444"><span style="line-height: 18.2px\;">Beth Trejo</span></font></span><br />\n<a href="http://www.chatterkick.com/"><span style="color:#0000FF\;">Chatterkick</span></a><br />\n<br />\n<br />\n<font face="Arial\, sans-serif"><span style="font-size: 14px\; line-height: 22.4px\;"><b><i>Warning: You&#39\;re Losing Money By Ignoring Your Online Reviews</i></b></span></font><br />\n<em>Discover the tactics and practices you can implement today to improve your online reputation one step at a time.</em><br />\n<span style="font-size:14px\;">&nbsp\;</span><br />\n<span style="font-size:14px\;">The success of an organization relies heavily on reputation\, both offline and online. Research shows a number of factors can contribute to online reputation\, influencing perception\, and ultimately affecting how your consumers make buying decisions. So how do you create a better online reputation? Join us at the Small Business Education Series and we&#39\;ll give you practical and real-world advice on how you can take charge of your online reputation.&nbsp\;<br />\n&nbsp\;<br />\nAttendees will learn:</span>\n\n<ul>\n	<li><span style="font-size:14px\;">The fastest way to clean and claim your online listing.</span></li>\n	<li><span style="font-size:14px\;">Why online reviews matter\, and how to overcome negative feedback by delivering respectful and personalized responses.</span></li>\n	<li><span style="font-size:14px\;">Helpful Dos and Don&rsquo\;ts for increasing positive online reviews and enhancing your brand&#39\;s story.</span></li>\n</ul>\n<span style="font-size:14px\;">This will be one Small Business Education Series you won&#39\;t want to miss!&nbsp\;</span><br />\n<br />\n<span style="color: rgb(68\, 68\, 68)\; line-height: 18.2px\; font-size: 14px\;">The&nbsp\;</span><span style="margin: 0px\; padding: 0px\; border-radius: 0px\; border: currentcolor\; border-image-slice: 100% 1 0\; left: auto\; top: auto\; width: auto\; height: auto\; right: auto\; bottom: auto\; color: rgb(68\, 68\, 68)\; line-height: 18.2px\; overflow: visible\; clear: none\; font-size: 14px\; font-weight: 700\; vertical-align: baseline\; visibility: inherit\; border-collapse: separate\; position: static\; z-index: auto\; table-layout: auto\; direction: inherit\; max-height: none\; max-width: none\; content: normal\; box-sizing: content-box\; empty-cells: show\; opacity: 1\; box-shadow: none\; resize: none\; outline-offset: 0px\; background-image: none\;">Small Business Education&nbsp\;Series</span><span style="color: rgb(68\, 68\, 68)\; line-height: 18.2px\; font-size: 14px\;">\, is a peer-to-peer information exchange presented by the&nbsp\;Siouxland&nbsp\;Chamber of Commerce. Join us each month as a local subject matter expert will share their expertise and experience on timely\, focused topics important to small business owners. Whether it&#39\;s accounting\, HR\, legal\, banking &amp\; finance\, marketing\, or management the Small Business Education Series will give you the tools and knowledge you need to more effectively run your small business.</span><br />\n<br />\n<span style="font-size:14px\;"><span style="line-height: 20.7999992370605px\;"><em><strong>Not a member?</strong></em> If you&#39\;re a business large or small in the&nbsp\;</span>Siouxland<span style="line-height: 20.7999992370605px\;">&nbsp\;area you should be!&nbsp\;</span><a href="http://directory.siouxlandchamber.com/member/newmemberapp/" style="line-height: 20.7999992370605px\;"><span style="color: rgb(0\, 0\, 255)\;">Join Now</span></a><span style="line-height: 20.7999992370605px\;">&nbsp\;to enjoy&nbsp\;all of the benefits only a&nbsp\;</span>Siouxland<span style="line-height: 20.7999992370605px\;">&nbsp\;Chamber membership can offer.</span></span><br />\n<br />\n<em style="margin: 0px\; padding: 0px\; border-radius: 0px\; border: currentColor\; border-image: 100% 1 0\; left: auto\; top: auto\; width: auto\; height: auto\; right: auto\; bottom: auto\; color: rgb(68\, 68\, 68)\; line-height: 18.2px\; overflow: visible\; clear: none\; font-family: Arial\, Helvetica\, sans-serif\; font-size: 14px\; vertical-align: baseline\; float: none\; display: inline\; visibility: inherit\; border-collapse: separate\; position: static\; z-index: auto\; table-layout: auto\; direction: inherit\; -ms-word-break: inherit\; -ms-text-justify: inherit\; -ms-word-wrap: inherit\; -ms-text-overflow: clip\; max-height: none\; max-width: none\; content: normal\; box-sizing: content-box\; empty-cells: show\; opacity: 1\; box-shadow: none\; background-image: none\; resize: none\; outline-offset: 0px\;">The Small Business Education Series is a free service for members of the Siouxland Chamber of Commerce.</em>
LOCATION:Siouxland Chamber of Commerce 101 Pierce Street Sioux City\, IA
UID:e.769.2201
SEQUENCE:3
DTSTAMP:20260421T155952Z
URL:https://directory.siouxlandchamber.com/events/details/small-business-education-series-1-6-16-01-06-2016-2201
END:VEVENT

END:VCALENDAR
