BEGIN:VCALENDAR
VERSION:2.0
PRODID:-//ChamberMaster//Event Calendar 2.0//EN
METHOD:PUBLISH
X-PUBLISHED-TTL:P3D
REFRESH-INTERVAL:P3D
CALSCALE:GREGORIAN
BEGIN:VEVENT
DTSTART:20200122T180000Z
DTEND:20200122T190000Z
X-MICROSOFT-CDO-ALLDAYEVENT:FALSE
SUMMARY:Small Business Education Series 1/22/20
DESCRIPTION:3 Ways an IT Partner Can Add Rocket Fuel to Your Small Business Growth\n\nPresented by Thompson Innovation\n\nhttps://www.thompsoninnovation.com/\n\nSmall businesses often lack a formal IT department which leaves them vulnerable to a wide range of problems from cybercriminals\, to inefficient IT infrastructure\, and more costly than necessary operating expenses.   But there is help.  Many small businesses are turning to Managed Services Providers\, or more commonly called\, IT Partners.  But why would they?  In our lunch and learn we will talk about the ways that an IT partner can help you add rocket fuel to your small business growth.  \n\n \n\nOne of the best decisions you could make in 2020 is choosing an IT partner to help you grow your small business\; stop by for lunch\, courtesy of Thompson Innovation\, and learn how to do it.  \n\n\n\nThe Small Business Education Series\, is a peer-to-peer information exchange presented by the Siouxland Chamber of Commerce. Join us each month as a local subject matter expert will share their expertise and experience on timely\, focused topics important to small business owners. Whether it's accounting\, HR\, legal\, banking & finance\, marketing\, or management the Small Business Education Series will give you the tools and knowledge you need to more effectively run your small business.\n\n\nNot a member? If you're a business large or small in the Siouxland area you should be! Join Now to enjoy all of the benefits only a Siouxland Chamber membership can offer.
X-ALT-DESC;FMTTYPE=text/html:<p><strong><em><u><span style="font-size: medium\;">3 Ways an IT Partner Can Add Rocket Fuel to Your Small Business Growth</span></u></em><br />\n<span style="font-family: arial\;"><span style="font-size: medium\;">Presented by Thompson Innovation</span></span></strong><br />\n<span style="font-family: arial\;"><a href="http://www.thompsoninnovation.com/"><font color="#0066cc">https://www.thompsoninnovation.com/</font></a></span><br />\n<span style="font-family: arial\;"><span style="font-size: medium\;">Small businesses often lack a formal IT department which leaves them vulnerable to a wide range of problems from cybercriminals\, to inefficient IT infrastructure\, and more costly than necessary operating expenses.&nbsp\; &nbsp\;But there is help.&nbsp\; Many small businesses are turning to Managed Services Providers\, or more commonly called\, IT Partners.&nbsp\; But why would they?&nbsp\; In our lunch and learn we will talk about the ways that an IT partner can help you add rocket fuel to your small business growth.&nbsp\; </span><br />\n&nbsp\;</span><br />\n<span style="font-size: medium\;"><span style="font-family: calibri\;"><span style="font-family: arial\;">One of the best decisions you could make in 2020 is choosing an IT partner to help you grow your small business\; stop by for lunch\, courtesy of Thompson Innovation\,&nbsp\;and learn how to do it.</span>&nbsp\; </span></span><br />\n<br />\n<span style="color: rgb(68\, 68\, 68)\;">The&nbsp\;</span><span style="border-radius: 0px\; border: currentColor\; border-image: none\; right: auto\; bottom: auto\; color: rgb(68\, 68\, 68)\; overflow: visible\; visibility: inherit\; z-index: auto\; max-height: none\; max-width: none\; content: normal\; box-sizing: content-box\; empty-cells: show\; opacity: 1\; box-shadow: none\; resize: none\; outline-offset: 0px\;"><b>Small Business Education&nbsp\;Series</b></span><span style="color: rgb(68\, 68\, 68)\;">\, is a peer-to-peer information exchange presented by the&nbsp\;Siouxland&nbsp\;Chamber of Commerce. Join us each month as a local subject matter expert will share their expertise and experience on timely\, focused topics important to small business owners. Whether it&#39\;s accounting\, HR\, legal\, banking &amp\; finance\, marketing\, or management the Small Business Education Series will give you the tools and knowledge you need to more effectively run your small </span><span style="color: rgb(68\, 68\, 68)\; font-size: 12px\;">business.</span></p>\n<br />\n<span style="font-size: 12px\;"><strong><i><span style="font-family:\;"><font color="#000000">Not a member?</font></span></i></strong><span style="font-family:\;"><font color="#000000"> If you&#39\;re a business large or small in the&nbsp\;Siouxland&nbsp\;area you should be!&nbsp\;</font><a href="http://directory.siouxlandchamber.com/member/newmemberapp/"><font color="#0000ff">Join Now</font></a><font color="#000000">&nbsp\;to enjoy&nbsp\;all of the benefits only a&nbsp\;Siouxland&nbsp\;Chamber membership can offer.</font></span></span>\n\n<p>&nbsp\;</p>\n
LOCATION:Chamber Office 101 Pierce St
UID:e.769.5259
SEQUENCE:3
DTSTAMP:20260421T211331Z
URL:https://directory.siouxlandchamber.com/events/details/small-business-education-series-1-22-20-5259
END:VEVENT

END:VCALENDAR
