BEGIN:VCALENDAR
VERSION:2.0
PRODID:-//ChamberMaster//Event Calendar 2.0//EN
METHOD:PUBLISH
X-PUBLISHED-TTL:P3D
REFRESH-INTERVAL:P3D
CALSCALE:GREGORIAN
BEGIN:VEVENT
DTSTART:20150318T170000Z
DTEND:20150318T180000Z
X-MICROSOFT-CDO-ALLDAYEVENT:FALSE
SUMMARY:#siouxlandsocial-The Benefits of Using a Tablet for Your Small Business
DESCRIPTION:The #ss group discussion this month will be The Benefits of Using a Tablet for Your Small Business. The crew from Wireless World will be on hand to answer questions and give advice. Topics for discussion will be:\n\n	Accessibility Apps - Email\, file management\, media\, and presentations. Office from anywhere!\n	Product Features - High speed 4G LTE for internet everywhere. Computer like capabilities\, high res cameras\, wireless keyboard options and more.\n	Networking Apps - Stay in touch with clients and co workers easily. Video calling\, messaging services\, email and social networking apps.
X-ALT-DESC;FMTTYPE=text/html:The #ss group discussion this month will be The Benefits of Using a Tablet for Your Small Business. The crew from Wireless World will be on hand to answer questions and give advice.&nbsp\;Topics for discussion will be:\n<ul>\n	<li>Accessibility Apps&nbsp\;- Email\, file management\, media\,&nbsp\;and presentations. Office from anywhere!</li>\n	<li>Product Features - High speed 4G LTE for internet everywhere. Computer like capabilities\, high res cameras\, wireless keyboard options and more.</li>\n	<li>Networking Apps&nbsp\;- Stay in touch with clients and co workers easily. Video calling\, messaging services\, email and social networking apps.</li>\n</ul>\n
LOCATION:Chamber office\, 101 Pierce Street
UID:e.769.2082
SEQUENCE:3
DTSTAMP:20260421T201656Z
URL:https://directory.siouxlandchamber.com/events/details/siouxlandsocial-the-benefits-of-using-a-tablet-for-your-small-business-03-18-2015-2082
END:VEVENT

END:VCALENDAR
