BEGIN:VCALENDAR
VERSION:2.0
PRODID:-//ChamberMaster//Event Calendar 2.0//EN
METHOD:PUBLISH
X-PUBLISHED-TTL:P3D
REFRESH-INTERVAL:P3D
CALSCALE:GREGORIAN
BEGIN:VEVENT
DTSTART:20150121T180000Z
DTEND:20150121T190000Z
X-MICROSOFT-CDO-ALLDAYEVENT:FALSE
SUMMARY:#siouxlandsocial meeting-Topic: Should you advertise on Twitter?
DESCRIPTION:Topic: Should you advertise on Twitter?\n\nDrive customers to your business with Twitter Ads. Learn how to access its value as a marketing tool at the next #siouxlandsocial on Wednesday\, January 21\, noon at the Chamber.\n\nJim Braunschweig from JD Gordon Creative Labs will be on hand to answer questions and give advice about this currently under appreciated and affordable advertising option.
X-ALT-DESC;FMTTYPE=text/html:Topic: Should you advertise on Twitter?<br />\nDrive customers to your business with Twitter Ads. Learn how to access its value as a marketing tool at the next #siouxlandsocial on Wednesday\, January 21\, noon at the Chamber.<br />\nJim Braunschweig from JD Gordon Creative Labs will be on hand to answer questions and give advice about this currently under appreciated and affordable advertising option.
LOCATION:Chamber office\, downstairs
UID:e.769.2075
SEQUENCE:3
DTSTAMP:20260422T005410Z
URL:https://directory.siouxlandchamber.com/events/details/siouxlandsocial-meeting-topic-should-you-advertise-on-twitter-01-21-2015-2075
END:VEVENT

END:VCALENDAR
