BEGIN:VCALENDAR
VERSION:2.0
PRODID:-//ChamberMaster//Event Calendar 2.0//EN
METHOD:PUBLISH
X-PUBLISHED-TTL:P3D
REFRESH-INTERVAL:P3D
CALSCALE:GREGORIAN
BEGIN:VEVENT
DTSTART:20150520T170000Z
DTEND:20150520T180000Z
X-MICROSOFT-CDO-ALLDAYEVENT:FALSE
SUMMARY:#siouxlandsocial
DESCRIPTION:Topic: YouTube as a Marketing Tool for Your Business?\n\n\n\nYouTube is the second-largest search engine (behind Google) and in June 2011\, ComScore reported that Americans had more than 5.6 billion YouTube viewing sessions per month\, with the average visitor frequenting the site 23 times a month at an average of 26 minutes per visit. No matter how you look at the data\, that's a lot of eyeballs and a lot of time spent on a single site that a marketer can take advantage of. But creating a video is only half the battle\; attracting viewers is the other half. Join us as JD Gordon's Jim Braunschweig and Kim Gordon walk us through YouTube and YouTube promoted videos.
X-ALT-DESC;FMTTYPE=text/html:<strong>Topic: YouTube as a Marketing Tool for Your Business?</strong><br />\n<br />\nYouTube is the second-largest search engine (behind Google) and in June 2011\, ComScore reported that Americans had more than 5.6 billion YouTube viewing sessions per month\, with the average visitor frequenting the site 23 times a month at an average of 26 minutes per visit. No matter how you look at the data\, that&rsquo\;s a lot of eyeballs and a lot of time spent on a single site that a marketer can take advantage of. But creating a video is only half the battle\; attracting viewers is the other half. Join us as JD Gordon&rsquo\;s Jim Braunschweig and Kim Gordon walk us through YouTube and YouTube promoted videos.&nbsp\;
LOCATION:Chamber office\, 101 Pierce Street
UID:e.769.2108
SEQUENCE:3
DTSTAMP:20260421T173728Z
URL:https://directory.siouxlandchamber.com/events/details/siouxlandsocial-05-20-2015-2108
END:VEVENT

END:VCALENDAR
