BEGIN:VCALENDAR
VERSION:2.0
PRODID:-//ChamberMaster//Event Calendar 2.0//EN
METHOD:PUBLISH
X-PUBLISHED-TTL:P3D
REFRESH-INTERVAL:P3D
CALSCALE:GREGORIAN
BEGIN:VEVENT
DTSTART:20221209T210000Z
DTEND:20221210T000000Z
X-MICROSOFT-CDO-ALLDAYEVENT:FALSE
SUMMARY:Siouxland Chamber of Commerce's 150th Anniversary Celebration
DESCRIPTION:All Siouxland Chamber of Commerce members are invited to help celebrate our 150th Anniversary. Stop by anytime between 3 - 6 PM to help us celebrate.
X-ALT-DESC;FMTTYPE=text/html:All Siouxland Chamber of Commerce members are invited to help celebrate our 150th Anniversary. Stop by anytime between 3 - 6 PM to help us celebrate.&nbsp\;
LOCATION:Siouxland Chamber of Commerce 101 Pierce Street Sioux City\, IA 51101
UID:e.769.5853
SEQUENCE:3
DTSTAMP:20260419T182806Z
URL:https://directory.siouxlandchamber.com/events/details/siouxland-chamber-of-commerce-s-150th-anniversary-celebration-5853
END:VEVENT

END:VCALENDAR
