BEGIN:VCALENDAR
VERSION:2.0
PRODID:-//ChamberMaster//Event Calendar 2.0//EN
METHOD:PUBLISH
X-PUBLISHED-TTL:P3D
REFRESH-INTERVAL:P3D
CALSCALE:GREGORIAN
BEGIN:VEVENT
DTSTART:20221026T170000Z
DTEND:20221026T180000Z
X-MICROSOFT-CDO-ALLDAYEVENT:FALSE
SUMMARY:SBES 2022
DESCRIPTION:Marketing to the Government\n\n \n\nHas your business:\n\n	Not previously pursued government sales\, and you're wondering how to get started?\n	Made some government marketing efforts in the past\, but struggled to connect with anyone?\n	Had some success in selling to agencies\, and you're interested in learning how to find more government opportunities?\n\nBy attending this event\, you'll learn:\n\n\n	How past government contract history can be obtained at no cost\, either directly or through the CIRAS Procurement Technical Assistance Center (PTAC) program\,\n	How the data can be used to help you develop a targeted marketing strategy\, and\n	What resources are available to help you build relationships with government agencies.\n\nFor more details\, contact Justin Niceswanger\, PTAC Government Contracting Specialist with Iowa State University\, Center for Industrial Research and Service (CIRAS): jnice@iastate.edu\n\n\n\nAre you wanting to connect with the government and sell to them? How can I market my business\, and who do I contact? \n\nJustin Niceswanger is with Iowa State's CIRAS program and is excited to show attendees how they can pull past federal contract history to get an idea of which agencies are buying their products/services. He'll also help businesses look at a pay site to see how their PTAC program can pull some data at the state/county/municipal/school district levels! \n\nPlus\, Justin will show you how to use this information to develop a targeted marketing strategy\, and then finding publicly-available contact lists for these agencies.
X-ALT-DESC;FMTTYPE=text/html:<span style="font-size:14px\;"><strong>Marketing to the Government</strong></span><br />\n&nbsp\;<br />\n<span style="color:#181818\;"><span style="font-family:calibri\,sans-serif\;"><span style="font-size:11.0pt\;">Has your business:</span></span></span>\n<ul>\n	<li style="color:rgb(24\, 24\, 24)\;background-image:initial\;background-position:initial\;background-size:initial\;background-repeat:initial\;background-attachment:initial\;background-origin:initial\;background-clip:initial\;box-sizing:border-box\;">Not previously pursued government sales\, and you&#39\;re wondering how to get started?</li>\n	<li style="color:rgb(24\, 24\, 24)\;background-image:initial\;background-position:initial\;background-size:initial\;background-repeat:initial\;background-attachment:initial\;background-origin:initial\;background-clip:initial\;box-sizing:border-box\;">Made some government marketing efforts in the past\, but struggled to connect with anyone?</li>\n	<li style="color:rgb(24\, 24\, 24)\;background-image:initial\;background-position:initial\;background-size:initial\;background-repeat:initial\;background-attachment:initial\;background-origin:initial\;background-clip:initial\;box-sizing:border-box\;">Had some success in selling to agencies\, and you&#39\;re interested in learning how to find more government opportunities?</li>\n</ul>\n<span style="color:#181818\;"><span style="font-family:calibri\,sans-serif\;"><span style="font-size:11.0pt\;">By attending this event\, you&#39\;ll learn:</span></span></span>\n\n<ul>\n	<li style="color:rgb(24\, 24\, 24)\;background-image:initial\;background-position:initial\;background-size:initial\;background-repeat:initial\;background-attachment:initial\;background-origin:initial\;background-clip:initial\;">How past government contract history can be obtained at no cost\, either directly or through the CIRAS Procurement Technical Assistance Center (PTAC) program\,</li>\n	<li style="color:rgb(24\, 24\, 24)\;background-image:initial\;background-position:initial\;background-size:initial\;background-repeat:initial\;background-attachment:initial\;background-origin:initial\;background-clip:initial\;box-sizing:border-box\;">How the data can be used to help you develop a targeted marketing strategy\, and</li>\n	<li style="color:rgb(24\, 24\, 24)\;background-image:initial\;background-position:initial\;background-size:initial\;background-repeat:initial\;background-attachment:initial\;background-origin:initial\;background-clip:initial\;box-sizing:border-box\;">What resources are available to help you build relationships with government agencies.</li>\n</ul>\n<span style="color:#181818\;"><span style="font-family:calibri\,sans-serif\;"><span style="font-size:11.0pt\;">For more details\, contact Justin Niceswanger\, PTAC Government Contracting Specialist with Iowa State University\, Center for Industrial Research and Service (CIRAS):&nbsp\;<a href="mailto:jnice@iastate.edu">jnice@iastate.edu</a></span></span></span><br />\n<br />\n<span style="color: rgb(31\, 73\, 125)\;">Are you wanting to connect with the government and sell to them? </span><strong><span style="color:red\;"><span style="font-family:calibri\,sans-serif\;"><span style="font-size:11.0pt\;">How can I market my business\, and who do I contact?</span></span></span></strong><span style="color: rgb(31\, 73\, 125)\;">&nbsp\;</span><br style="color: rgb(31\, 73\, 125)\;" />\n<span style="color: rgb(31\, 73\, 125)\;">Justin Niceswanger is with Iowa State&#39\;s CIRAS program and is excited to show attendees how they can pull past federal contract history to get an idea of which agencies are buying their products/services. He&#39\;ll also help businesses look at a pay site to see how their PTAC program can pull some data at the state/county/municipal/school district levels!&nbsp\;</span><br style="color: rgb(31\, 73\, 125)\;" />\n<span style="color: rgb(31\, 73\, 125)\;">Plus\, Justin will show you how to use this information to develop a targeted marketing strategy\, and then finding publicly-available contact lists for these agencies.</span><br style="color: rgb(31\, 73\, 125)\;" />\n&nbsp\;
LOCATION:
UID:e.769.5717
SEQUENCE:3
DTSTAMP:20260419T212430Z
URL:https://directory.siouxlandchamber.com/events/details/sbes-2022-5717
END:VEVENT

END:VCALENDAR
