BEGIN:VCALENDAR
VERSION:2.0
PRODID:-//ChamberMaster//Event Calendar 2.0//EN
METHOD:PUBLISH
X-PUBLISHED-TTL:P3D
REFRESH-INTERVAL:P3D
CALSCALE:GREGORIAN
BEGIN:VEVENT
DTSTART:20151217T223000Z
DTEND:20151218T000000Z
X-MICROSOFT-CDO-ALLDAYEVENT:FALSE
SUMMARY:Rush Hour Connect - Sunnybrook Community Church
DESCRIPTION:Sunnybrook is celebrating one year of their new auditorium\, which serves almost 2\,000 people each Sunday morning.\n\n\n\nRemember...Rush Hour Connect is your fastest meeting of the day giving you a chance to gear down and have fun. Come for 15 minutes or stay for an hour and make some great connections.
X-ALT-DESC;FMTTYPE=text/html:Sunnybrook is celebrating one year of their new auditorium\, which serves almost 2\,000 people each Sunday morning.<br />\n<br />\nRemember...<em>Rush Hour Connect</em> is your fastest meeting of the day giving you a chance to gear down and have fun. Come for 15 minutes or stay for an hour and make some great connections.
LOCATION:5601 Sunnybrook Drive
UID:e.769.999
SEQUENCE:3
DTSTAMP:20260421T143549Z
URL:https://directory.siouxlandchamber.com/events/details/rush-hour-connect-sunnybrook-community-church-12-17-2015-999
END:VEVENT

END:VCALENDAR
