BEGIN:VCALENDAR
VERSION:2.0
PRODID:-//ChamberMaster//Event Calendar 2.0//EN
METHOD:PUBLISH
X-PUBLISHED-TTL:P3D
REFRESH-INTERVAL:P3D
CALSCALE:GREGORIAN
BEGIN:VEVENT
DTSTART:20181025T213000Z
DTEND:20181025T230000Z
X-MICROSOFT-CDO-ALLDAYEVENT:FALSE
SUMMARY:Rush Hour Connect - Cable ONE
DESCRIPTION:Cable ONE Business appreciates the expansion and growth they've experienced in Siouxland the past 40 years and will celebrate when they host Rush Hour Connect on October 25th from 4:30 - 6:00.  They will have food\, drinks\, and fabulous prizes including an Alexa Echo Show and a Nest Thermostat.  Please note the date is the FOURTH Thursday\, October 25th\, rather than the regular 3rd Thursday.  We hope to see you there!\n\n \n\n\n\n\n\nRush Hour Connect is your fastest meeting of the day giving you a chance to gear down and have fun.  Come for 15 minutes or stay for an hour and make some great connections!
X-ALT-DESC;FMTTYPE=text/html:<span style="font-size:14px\;">Cable ONE Business appreciates the expansion and growth they&rsquo\;ve experienced in Siouxland the past 40 years and will celebrate when they host Rush Hour Connect on October 25th from 4:30 - 6:00.&nbsp\;&nbsp\;They will have food\, drinks\, and fabulous prizes including an Alexa Echo Show and a Nest Thermostat.&nbsp\; </span><span style="color: rgb(51\, 51\, 51)\; font-family: sans-serif\, Arial\, Verdana\, &quot\;Trebuchet MS&quot\;\; font-size: 14px\; background-color: rgb(255\, 255\, 255)\;">Please note the date is the FOURTH Thursday\, October 25th\, rather than the regular 3rd Thursday.&nbsp\;&nbsp\;</span><span style="font-size:14px\;">We hope to see you there!</span><br />\n&nbsp\;<br />\n<br />\n<br font-size:="" style="color: rgb(51\, 51\, 51)\; font-family: sans-serif\, Arial\, Verdana\, " trebuchet="" />\n<span font-size:="" style="color: rgb(51\, 51\, 51)\; font-family: sans-serif\, Arial\, Verdana\, " trebuchet=""><span style="font-family: tahoma\;">Rush Hour Connect is your fastest meeting of the day giving you a chance to gear down and have fun. &nbsp\;Come for 15 minutes or stay for an hour and make some great connections!</span></span>
LOCATION:Cable ONE 900 Steuben Street
UID:e.769.4585
SEQUENCE:3
DTSTAMP:20260420T223114Z
URL:https://directory.siouxlandchamber.com/events/details/rush-hour-connect-cable-one-4585
END:VEVENT

END:VCALENDAR
