BEGIN:VCALENDAR
VERSION:2.0
PRODID:-//ChamberMaster//Event Calendar 2.0//EN
METHOD:PUBLISH
X-PUBLISHED-TTL:P3D
REFRESH-INTERVAL:P3D
CALSCALE:GREGORIAN
BEGIN:VEVENT
DTSTART:20170524T150000Z
DTEND:20170524T153000Z
X-MICROSOFT-CDO-ALLDAYEVENT:FALSE
SUMMARY:Ribbon Cutting - Yellowstone Cab Co.
DESCRIPTION:Yellowstone Cab Company will be welcomed to the Siouxland Chamber with a ribbon cutting ceremony to be held in the Long Lines parking lot next to the Chamber offices at 101 Pierce Street.  From their mobile ap\, Yellowstone Cab Company will get to you quickly and drive to your destination safely and free of hassles.  Please join us in welcoming them to the Chamber.
X-ALT-DESC;FMTTYPE=text/html:Yellowstone Cab Company will be welcomed to the Siouxland Chamber with a ribbon cutting ceremony to be held in the Long Lines parking lot next to the Chamber offices at 101 Pierce Street. &nbsp\;From their mobile ap\,&nbsp\;Yellowstone Cab Company will get to you quickly and drive to your destination safely and free of hassles. &nbsp\;Please join us in welcoming them to the Chamber.
LOCATION:Long Lines Parking Lot Next to the Siouxland Chamber (101 Pierce Street)
UID:e.769.3496
SEQUENCE:3
DTSTAMP:20260419T225544Z
URL:https://directory.siouxlandchamber.com/events/details/ribbon-cutting-yellowstone-cab-co-3496
END:VEVENT

END:VCALENDAR
